BEGIN:VCALENDAR
VERSION:2.0
PRODID:-//Travel Webinars - ECPv6.15.20//NONSGML v1.0//EN
CALSCALE:GREGORIAN
METHOD:PUBLISH
X-ORIGINAL-URL:https://travelwebinars.com
X-WR-CALDESC:Events for Travel Webinars
REFRESH-INTERVAL;VALUE=DURATION:PT1H
X-Robots-Tag:noindex
X-PUBLISHED-TTL:PT1H
BEGIN:VTIMEZONE
TZID:America/New_York
BEGIN:DAYLIGHT
TZOFFSETFROM:-0500
TZOFFSETTO:-0400
TZNAME:EDT
DTSTART:20230312T070000
END:DAYLIGHT
BEGIN:STANDARD
TZOFFSETFROM:-0400
TZOFFSETTO:-0500
TZNAME:EST
DTSTART:20231105T060000
END:STANDARD
BEGIN:DAYLIGHT
TZOFFSETFROM:-0500
TZOFFSETTO:-0400
TZNAME:EDT
DTSTART:20240310T070000
END:DAYLIGHT
BEGIN:STANDARD
TZOFFSETFROM:-0400
TZOFFSETTO:-0500
TZNAME:EST
DTSTART:20241103T060000
END:STANDARD
BEGIN:DAYLIGHT
TZOFFSETFROM:-0500
TZOFFSETTO:-0400
TZNAME:EDT
DTSTART:20250309T070000
END:DAYLIGHT
BEGIN:STANDARD
TZOFFSETFROM:-0400
TZOFFSETTO:-0500
TZNAME:EST
DTSTART:20251102T060000
END:STANDARD
END:VTIMEZONE
BEGIN:VTIMEZONE
TZID:America/Los_Angeles
BEGIN:DAYLIGHT
TZOFFSETFROM:-0800
TZOFFSETTO:-0700
TZNAME:PDT
DTSTART:20230312T100000
END:DAYLIGHT
BEGIN:STANDARD
TZOFFSETFROM:-0700
TZOFFSETTO:-0800
TZNAME:PST
DTSTART:20231105T090000
END:STANDARD
BEGIN:DAYLIGHT
TZOFFSETFROM:-0800
TZOFFSETTO:-0700
TZNAME:PDT
DTSTART:20240310T100000
END:DAYLIGHT
BEGIN:STANDARD
TZOFFSETFROM:-0700
TZOFFSETTO:-0800
TZNAME:PST
DTSTART:20241103T090000
END:STANDARD
BEGIN:DAYLIGHT
TZOFFSETFROM:-0800
TZOFFSETTO:-0700
TZNAME:PDT
DTSTART:20250309T100000
END:DAYLIGHT
BEGIN:STANDARD
TZOFFSETFROM:-0700
TZOFFSETTO:-0800
TZNAME:PST
DTSTART:20251102T090000
END:STANDARD
END:VTIMEZONE
BEGIN:VEVENT
DTSTART;TZID=America/New_York:20240924T130000
DTEND;TZID=America/New_York:20240924T140000
DTSTAMP:20260420T210516
CREATED:20240917T154652Z
LAST-MODIFIED:20240917T154652Z
UID:5632-1727182800-1727186400@travelwebinars.com
SUMMARY:Explore the Magic of NYC's Holiday Season with Beyond Times Square
DESCRIPTION:Click to Register \nBeyond Times Square invites you to join us for an encore – and updated! – webinar showcasing our unrivaled holiday events in New York City! From the iconic Thanksgiving Parade to luxurious New Year’s Eve parties\, our curated experiences promise unforgettable memories filled with festive cheer and opulence. \nJoin our Content Manager\, Carole Peck\, for an insider’s look at the spectacular holiday events BTSQ has lined up for your clients. Learn about our premier Thanksgiving parade viewing party\, exclusive New Year’s Eve events and family-friendly celebration options\, all designed to immerse your clients in the enchantment of the holiday season! \nReserve your spot today and be the first to offer these exceptional holiday experiences to your clients\, ensuring they celebrate the season in style and luxury! \nHere’s what to expect: \nIntroducing Our NYC Holiday Events \n\nThanksgiving Parade Viewing Party at Del Frisco’s\nChristmas Tree Lighting Party at Rockefeller Center\nNew Year’s Eve Ball Drop Party at M Social Hotel\nNew Year’s Eve Ball Drop Party at R Lounge\nFamily-Friendly New Year’s Eve Party at Rockefeller Center\nHoliday Cabaret Brunch at LeRock\nHoliday-Themed Tours & Multiday Experiences
URL:https://travelwebinars.com/event/explore-the-magic-of-nycs-holiday-season-with-beyond-times-square-2/
CATEGORIES:Travel Agents
ATTACH;FMTTYPE=image/jpeg:https://travelwebinars.com/wp-content/uploads/2021/04/BTSQ-Logo-2021-sm.jpg
END:VEVENT
BEGIN:VEVENT
DTSTART;TZID=America/New_York:20240924T140000
DTEND;TZID=America/New_York:20240924T143000
DTSTAMP:20260420T210516
CREATED:20240828T170644Z
LAST-MODIFIED:20240828T170644Z
UID:5616-1727186400-1727188200@travelwebinars.com
SUMMARY:Higher Revenues Using Your Client List
DESCRIPTION:Click to Register \nAre you sitting on a goldmine without even realizing it? Your existing client list is one of your most valuable assets\, yet many businesses fail to tap into its full potential. Join TAP Tour Operator Justin Osbon from Image Tours and learn how to turn your client list into a revenue generator for your business.
URL:https://travelwebinars.com/event/higher-revenues-using-your-client-list/
CATEGORIES:TAP,Travel Agents
ATTACH;FMTTYPE=image/jpeg:https://travelwebinars.com/wp-content/uploads/2017/03/tap.jpg
END:VEVENT
BEGIN:VEVENT
DTSTART;TZID=America/Los_Angeles:20240925T140000
DTEND;TZID=America/Los_Angeles:20240925T150000
DTSTAMP:20260420T210516
CREATED:20240828T170430Z
LAST-MODIFIED:20240923T155607Z
UID:5614-1727272800-1727276400@travelwebinars.com
SUMMARY:Avanti Advantage: Explore Perks & Digital Tools
DESCRIPTION:Click to Register\nPresented by TravelResearchOnline. \nSince our start in October 1981\, Avanti Destinations has grown into a leading B2B tour operator specializing in customizable international travel. Beginning as a European FIT specialist\, we’ve expanded our portfolio across Europe\, Asia\, Central and South America\, North Africa\, the Middle East\, and the South Pacific. Your continued support has driven our success\, inspiring us to strengthen our commitment to you — our valued Travel Advisor Partners. Now\, we’re excited to elevate our partnership with The Avanti Advantage — featuring departmental upgrades\, service enhancements\, technological innovations\, and more. \nWhat to expect from our webinar: \n\nLearn about our exclusive hotel amenity program\nGet a glimpse into our expanded Reservation\, Operation\, and Sales teams\nBe the first to see the Avanti App\nHow to leverage your Avanti Certified Expert status on Agent Profiler\n\nAdditionally\, we’re offering exclusive training on the Avanti Destinations sales portal\, designed specifically for travel advisors. In this informative session\, you’ll learn how to: \n\nAdding your logo to Avanti itineraries and documents to bring your brand front and center\nCreating a quote to multiple destinations with hotels\, transfers\, activities\, transportation\, and more\nSearching for up to 3 rooms at a time with live pricing and availability\nFinding beautiful digital resources that you can share on social media\nUnderstanding our new mobile documents\nAnd much more!\n\nJoin Nate Guilfoyle\, Director of Web Services\, and Gina Bang\, Chief Sales and Marketing Officer\, for an overview of Avanti Destination’s newest digital tools and resources.
URL:https://travelwebinars.com/event/avanti-advantage-explore-perks-digital-tools/
CATEGORIES:Association,Travel Agents,Travel Research Online
ATTACH;FMTTYPE=image/jpeg:https://travelwebinars.com/wp-content/uploads/2022/04/2022Avanti_Logo-tn.jpg
END:VEVENT
END:VCALENDAR