BEGIN:VCALENDAR
VERSION:2.0
PRODID:-//Travel Webinars - ECPv6.15.20//NONSGML v1.0//EN
CALSCALE:GREGORIAN
METHOD:PUBLISH
X-ORIGINAL-URL:https://travelwebinars.com
X-WR-CALDESC:Events for Travel Webinars
REFRESH-INTERVAL;VALUE=DURATION:PT1H
X-Robots-Tag:noindex
X-PUBLISHED-TTL:PT1H
BEGIN:VTIMEZONE
TZID:America/New_York
BEGIN:DAYLIGHT
TZOFFSETFROM:-0500
TZOFFSETTO:-0400
TZNAME:EDT
DTSTART:20230312T070000
END:DAYLIGHT
BEGIN:STANDARD
TZOFFSETFROM:-0400
TZOFFSETTO:-0500
TZNAME:EST
DTSTART:20231105T060000
END:STANDARD
BEGIN:DAYLIGHT
TZOFFSETFROM:-0500
TZOFFSETTO:-0400
TZNAME:EDT
DTSTART:20240310T070000
END:DAYLIGHT
BEGIN:STANDARD
TZOFFSETFROM:-0400
TZOFFSETTO:-0500
TZNAME:EST
DTSTART:20241103T060000
END:STANDARD
BEGIN:DAYLIGHT
TZOFFSETFROM:-0500
TZOFFSETTO:-0400
TZNAME:EDT
DTSTART:20250309T070000
END:DAYLIGHT
BEGIN:STANDARD
TZOFFSETFROM:-0400
TZOFFSETTO:-0500
TZNAME:EST
DTSTART:20251102T060000
END:STANDARD
END:VTIMEZONE
BEGIN:VEVENT
DTSTART;TZID=America/New_York:20240917T150000
DTEND;TZID=America/New_York:20240917T160000
DTSTAMP:20260421T055449
CREATED:20240820T011115Z
LAST-MODIFIED:20240820T011115Z
UID:5603-1726585200-1726588800@travelwebinars.com
SUMMARY:What’s New for Image Tours in 2025
DESCRIPTION:Click to Register\nBrought to you by Travel Research Online. \nHaving been in business since 1939\, Image Tours is one of the most experienced Europe tour operators in the world and they have earned a reputation for high quality tours at an affordable price.  While their emphasis is on introducing your clients to the European way of life\, Image Tours remains aware of the small details appreciated by American travelers.  \n Join Justin Osbon of Image Tours for an informative session on what is new for 2025 tours.
URL:https://travelwebinars.com/event/whats-new-for-image-tours-in-2025/
CATEGORIES:Audience,Europe,Image Tours,Travel Agents,Travel Research Online
ATTACH;FMTTYPE=image/jpeg:https://travelwebinars.com/wp-content/uploads/2017/06/tro-imagetours-2015.jpg
END:VEVENT
BEGIN:VEVENT
DTSTART;TZID=America/New_York:20240917T190000
DTEND;TZID=America/New_York:20240917T190000
DTSTAMP:20260421T055449
CREATED:20240709T223217Z
LAST-MODIFIED:20240709T223217Z
UID:5099-1726599600-1726599600@travelwebinars.com
SUMMARY:5-Star Luxury Expeditions to the Arctic with Swan Hellenic
DESCRIPTION:Click to Register \nDiscover the extraordinary wilderness of the Arctic on an epic once-in-a-lifetime expedition in sophisticated elegance.  \nJoin Swan Hellenic expert\, Kelly Predmesky\, as she takes you on a virtual expedition to the northernmost part of Earth. \nYou will also hear the details about the authentic\, intimate and unforgettable moments of discovery in the Arctic\, all the while enjoying a sophisticated elegant atmosphere onboard- marrying the adventure of a true expedition with 5-star service and accommodations.  \nJoin this webinar to learn more about 5-star expeditions in Antarctica and the special incentive available for those who join us! \n\nSwan Hellenic was relaunched in July 2020 to proudly continue the spirit of cultural expedition cruising the company pioneered in the 1950s. Building on its British roots\, the new company has a global cultural cruising outlook dedicated to providing guests with the opportunity to “see what others don’t”. With 2 brand new\, purpose-built ice class vessels\, both under 200 guests\, Swan Hellenic can take your clients on the most unique journeys on all 7 continents\, marrying the adventure of a true expedition and 5-star service and accommodations.
URL:https://travelwebinars.com/event/5-star-luxury-expeditions-to-the-arctic-with-swan-hellenic-3/
CATEGORIES:Swan Hellenic,Travel Agents
ATTACH;FMTTYPE=image/jpeg:https://travelwebinars.com/wp-content/uploads/2023/06/Swan-Hellenic-logo.jpg
END:VEVENT
BEGIN:VEVENT
DTSTART;TZID=America/New_York:20240918T140000
DTEND;TZID=America/New_York:20240918T150000
DTSTAMP:20260421T055449
CREATED:20240822T143516Z
LAST-MODIFIED:20240909T151537Z
UID:5610-1726668000-1726671600@travelwebinars.com
SUMMARY:Trek Travel | Travel Advisor Event
DESCRIPTION:Click to Register \nJoin us for an exclusive presentation following our September 10th launch event designed specifically for Trek Travel – Travel Advisors!  \nDiscover everything you need to get started as a travel advisor\, learn the ins and outs of booking guests\, and explore the extensive resources available at Trek Travel.  \nThis informative session will also ensure you are fully equipped to offer unforgettable cycling and hiking vacations to your clients. The presentation will conclude with a Q&A session\, giving you the opportunity to ask any questions and gain further insights.  \nDon’t miss this chance to enhance your expertise and connect with the Trek Travel community!
URL:https://travelwebinars.com/event/trek-travel-travel-advisor-event/
CATEGORIES:Travel Agents
ATTACH;FMTTYPE=image/png:https://travelwebinars.com/wp-content/uploads/2024/04/Trek-Travel-Logo.png
END:VEVENT
BEGIN:VEVENT
DTSTART;TZID=America/New_York:20240919T130000
DTEND;TZID=America/New_York:20240919T140000
DTSTAMP:20260421T055449
CREATED:20240819T140031Z
LAST-MODIFIED:20240819T140647Z
UID:5597-1726750800-1726754400@travelwebinars.com
SUMMARY:NYC\, DC & Southern Gems: Elevate Client Travel With BTSQ
DESCRIPTION:Click to Register \nBrought to you by Travel Research Online. \nJoin Content Manager Carole Peck as she introduces you to what – and where – Beyond Times Square (BTSQ) – can offer your clients. Hint: New York City is only ONE of SIX destinations BTSQ offers! \nWe’ll kick off with a spotlight on our most popular destination – New York City – and the completely customizable experiences we offer year-round. We’ll also delve into our exclusive\, once-in-a-lifetime events that promise to make your client’s holiday season unforgettable. Whether it’s an exclusive Thanksgiving Parade Viewing Party or a glamorous New Year’s Eve gala in Times Square\, these experiences are designed to create lasting memories. \nNext\, we’ll take you to Washington DC for a peak at why it’s a premier destination for student groups looking to explore America’s rich history and dynamic culture up close. Learn about our private tours and experiences that are as informative as they are inspiring – and fun! – making them perfect for sparking a love of learning and adventure in young travelers. \nLast but certainly not least we’ll take you down south to the warm welcome of Charleston and Savannah. Since winter in these cities is mild and inviting\, it makes them the perfect escape for your clients from colder climates. Here they’ll experience a blend of history\, culture\, food and Southern charm that makes each city unique\, with expertly curated tours experiences highlight the best they have to offer. \nDon’t miss out on the opportunity to enhance your client’s travels with exclusive access and expert insights. Book your spot today!  \nAll the webinar attendees will receive not one but two beautifully designed\, white-labeled brochures to be shared with their clients. (NYC Thanksgiving Experience Brochure\, NYC Holiday Experience Brochure)
URL:https://travelwebinars.com/event/nyc-dc-southern-gems-elevate-client-travel-with-btsq/
CATEGORIES:Travel Agents
ATTACH;FMTTYPE=image/jpeg:https://travelwebinars.com/wp-content/uploads/2021/04/BTSQ-Logo-2021-sm.jpg
END:VEVENT
BEGIN:VEVENT
DTSTART;TZID=America/New_York:20240919T150000
DTEND;TZID=America/New_York:20240919T153000
DTSTAMP:20260421T055449
CREATED:20240911T194952Z
LAST-MODIFIED:20240911T194952Z
UID:5629-1726758000-1726759800@travelwebinars.com
SUMMARY:Ultra-Luxe Journeys to Colombia
DESCRIPTION:Click to Register \nJoin one of Blue Parallel’s travel experts for a live webinar where they’ll unveil hidden gems and exceptional experiences in Colombia. You’ll discover once-in-a-lifetime\, curated adventures featuring private access\, breathtaking outdoor activities\, and impeccable service designed to surpass every expectation. Sign up today and learn about unforgettable journeys in this extraordinary destination.
URL:https://travelwebinars.com/event/ultra-luxe-journeys-to-colombia/
CATEGORIES:Blue Parallel,Travel Agents
ATTACH;FMTTYPE=image/jpeg:https://travelwebinars.com/wp-content/uploads/2017/04/blue-parallel-logo-2017.jpg
END:VEVENT
END:VCALENDAR