BEGIN:VCALENDAR
VERSION:2.0
PRODID:-//Travel Webinars - ECPv6.15.20//NONSGML v1.0//EN
CALSCALE:GREGORIAN
METHOD:PUBLISH
X-WR-CALNAME:Travel Webinars
X-ORIGINAL-URL:https://travelwebinars.com
X-WR-CALDESC:Events for Travel Webinars
REFRESH-INTERVAL;VALUE=DURATION:PT1H
X-Robots-Tag:noindex
X-PUBLISHED-TTL:PT1H
BEGIN:VTIMEZONE
TZID:America/New_York
BEGIN:DAYLIGHT
TZOFFSETFROM:-0500
TZOFFSETTO:-0400
TZNAME:EDT
DTSTART:20230312T070000
END:DAYLIGHT
BEGIN:STANDARD
TZOFFSETFROM:-0400
TZOFFSETTO:-0500
TZNAME:EST
DTSTART:20231105T060000
END:STANDARD
BEGIN:DAYLIGHT
TZOFFSETFROM:-0500
TZOFFSETTO:-0400
TZNAME:EDT
DTSTART:20240310T070000
END:DAYLIGHT
BEGIN:STANDARD
TZOFFSETFROM:-0400
TZOFFSETTO:-0500
TZNAME:EST
DTSTART:20241103T060000
END:STANDARD
BEGIN:DAYLIGHT
TZOFFSETFROM:-0500
TZOFFSETTO:-0400
TZNAME:EDT
DTSTART:20250309T070000
END:DAYLIGHT
BEGIN:STANDARD
TZOFFSETFROM:-0400
TZOFFSETTO:-0500
TZNAME:EST
DTSTART:20251102T060000
END:STANDARD
END:VTIMEZONE
BEGIN:VEVENT
DTSTART;TZID=America/New_York:20240730T140000
DTEND;TZID=America/New_York:20240730T143000
DTSTAMP:20260419T201801
CREATED:20240725T172426Z
LAST-MODIFIED:20240725T172506Z
UID:5514-1722348000-1722349800@travelwebinars.com
SUMMARY:Explore the Cooler Side of Traveling with Destinations Unlimited
DESCRIPTION:Click to Register \nJoin us and TAP Tour Operator Lia Pontarelli of Destinations Unlimited to learn about some much colder upcoming tour options!  From the unspoiled wilderness and otherworldly landscapes of Antarctica to a chance to experience the phenomenon of the Northern Lights and the excitement of the Iditarod\, plus many other exciting options – we’ll show you why traveling to cold weather destinations shouldn’t be something your clients miss out on!
URL:https://travelwebinars.com/event/explore-the-cooler-side-of-traveling-with-destinations-unlimited/
CATEGORIES:TAP,Travel Agents
ATTACH;FMTTYPE=image/jpeg:https://travelwebinars.com/wp-content/uploads/2017/03/tap.jpg
END:VEVENT
END:VCALENDAR