BEGIN:VCALENDAR
VERSION:2.0
PRODID:-//Travel Webinars - ECPv6.15.20//NONSGML v1.0//EN
CALSCALE:GREGORIAN
METHOD:PUBLISH
X-WR-CALNAME:Travel Webinars
X-ORIGINAL-URL:https://travelwebinars.com
X-WR-CALDESC:Events for Travel Webinars
REFRESH-INTERVAL;VALUE=DURATION:PT1H
X-Robots-Tag:noindex
X-PUBLISHED-TTL:PT1H
BEGIN:VTIMEZONE
TZID:America/New_York
BEGIN:DAYLIGHT
TZOFFSETFROM:-0500
TZOFFSETTO:-0400
TZNAME:EDT
DTSTART:20220313T070000
END:DAYLIGHT
BEGIN:STANDARD
TZOFFSETFROM:-0400
TZOFFSETTO:-0500
TZNAME:EST
DTSTART:20221106T060000
END:STANDARD
BEGIN:DAYLIGHT
TZOFFSETFROM:-0500
TZOFFSETTO:-0400
TZNAME:EDT
DTSTART:20230312T070000
END:DAYLIGHT
BEGIN:STANDARD
TZOFFSETFROM:-0400
TZOFFSETTO:-0500
TZNAME:EST
DTSTART:20231105T060000
END:STANDARD
BEGIN:DAYLIGHT
TZOFFSETFROM:-0500
TZOFFSETTO:-0400
TZNAME:EDT
DTSTART:20240310T070000
END:DAYLIGHT
BEGIN:STANDARD
TZOFFSETFROM:-0400
TZOFFSETTO:-0500
TZNAME:EST
DTSTART:20241103T060000
END:STANDARD
END:VTIMEZONE
BEGIN:VEVENT
DTSTART;TZID=America/New_York:20231010T130000
DTEND;TZID=America/New_York:20231010T140000
DTSTAMP:20260420T191038
CREATED:20231002T172239Z
LAST-MODIFIED:20231002T172239Z
UID:3838-1696942800-1696946400@travelwebinars.com
SUMMARY:A taste of Blue-Roads Touring in 2024
DESCRIPTION:Click to Register\nBrought to you by Travel Research Online. \nOur 2024 adventures are now ready to book\, with over a third already guaranteed. Join our Global Head of Sales\, Dylan Hearne\, as we venture into all the highlights that Blue-Roads Touring has to offer. With new tours and deals\, this is something you do not want to miss. The scenic route awaits!\n——————————————————————–\nThe original small group touring company\, Blue-Roads Touring offers a selection of small group tours in the UK and Europe. With plenty of opportunities to meet like-minded travelers and time to savor each moment\, guests are invited to explore each unique destination in depth. Guided by passionate Tour Leaders and filled with new discoveries\, breathtaking scenery and genuine local experiences\, our tours are a cut above the rest. \nAnd our small group sizes of up to 18 people mean you can expect a more personalized touring experience – traveling in a luxury mini-coach to avoid large crowds and overpopulated tourist spots.
URL:https://travelwebinars.com/event/a-taste-of-blue-roads-touring-in-2024/
CATEGORIES:Audience,Travel Agents,Travel Research Online
ATTACH;FMTTYPE=image/jpeg:https://travelwebinars.com/wp-content/uploads/2019/01/tro-blueroads-touring-2019.jpg
END:VEVENT
BEGIN:VEVENT
DTSTART;TZID=America/New_York:20231010T140000
DTEND;TZID=America/New_York:20231010T143000
DTSTAMP:20260420T191038
CREATED:20230905T135632Z
LAST-MODIFIED:20230905T135632Z
UID:3806-1696946400-1696948200@travelwebinars.com
SUMMARY:Tap into Heart of the British Isles Tour
DESCRIPTION:Click to Register \nA showcase tour of Britain and Ireland awaits your clients! Ancient castles\, glorious cathedrals\, royal venues and majestic country sides make this an enchanting journey your clients will come home raving about. Join Justin Osbon from Image Tours Inc. to learn about this great 16-day tour.
URL:https://travelwebinars.com/event/small-group-tours-for-2024-with-southwest-adventure-tours-2/
CATEGORIES:TAP,Travel Agents
ATTACH;FMTTYPE=image/jpeg:https://travelwebinars.com/wp-content/uploads/2017/03/tap.jpg
END:VEVENT
BEGIN:VEVENT
DTSTART;TZID=America/New_York:20231012T130000
DTEND;TZID=America/New_York:20231012T140000
DTSTAMP:20260420T191038
CREATED:20231002T172652Z
LAST-MODIFIED:20231002T172652Z
UID:3840-1697115600-1697119200@travelwebinars.com
SUMMARY:Portugal Revealed: A Journey Beyond the Ordinary
DESCRIPTION:Click to Register \nIn this webinar\, we will take you to Portugal. You will learn about its unique culture\, language\, cuisine\, architecture\, festivals and more from our partners at Osiris and Turismo de Portugal. \nYou will get to explore the different tourism products\, tours\, programs and sample itineraries for this region as well as how to plan and book them for your clients. \nJoin our webinar for a virtual trip to Portugal\, where you can also learn how to tailor the trip to perfection.
URL:https://travelwebinars.com/event/portugal-revealed-a-journey-beyond-the-ordinary/
CATEGORIES:Tradesco Tours,Travel Agents
ATTACH;FMTTYPE=image/jpeg:https://travelwebinars.com/wp-content/uploads/2017/04/tradesco-logo.jpg
END:VEVENT
BEGIN:VEVENT
DTSTART;TZID=America/New_York:20231012T133000
DTEND;TZID=America/New_York:20231012T143000
DTSTAMP:20260420T191038
CREATED:20231003T164735Z
LAST-MODIFIED:20231003T164735Z
UID:3848-1697117400-1697121000@travelwebinars.com
SUMMARY:Majestic Scotland: Whisky\, Bagpipes and Beyond
DESCRIPTION:Click to Register\nWelcome to Scotland! Adventure awaits on this 10-day tour with a private driver guiding guests around major cities like Edinburgh and Stirling\, as well as the Scottish countryside.   \nHighlights of this tour include a Loch Ness Cruise\, a day in Cairngorms National Park\, visits to local estates and working farms\, a walking craft beer tour in Aberdeen\, and so much more! Join Julie Cole\, Trip Manager at Old Sod Travel\, as she walks us through this exquisite itinerary based on her recent FAM.
URL:https://travelwebinars.com/event/majestic-scotland-whisky-bagpipes-and-beyond/
CATEGORIES:Travel Agents
ATTACH;FMTTYPE=image/jpeg:https://travelwebinars.com/wp-content/uploads/2022/12/old_sod_travel_logo.jpg
END:VEVENT
END:VCALENDAR