BEGIN:VCALENDAR
VERSION:2.0
PRODID:-//Travel Webinars - ECPv6.15.20//NONSGML v1.0//EN
CALSCALE:GREGORIAN
METHOD:PUBLISH
X-ORIGINAL-URL:https://travelwebinars.com
X-WR-CALDESC:Events for Travel Webinars
REFRESH-INTERVAL;VALUE=DURATION:PT1H
X-Robots-Tag:noindex
X-PUBLISHED-TTL:PT1H
BEGIN:VTIMEZONE
TZID:America/New_York
BEGIN:DAYLIGHT
TZOFFSETFROM:-0500
TZOFFSETTO:-0400
TZNAME:EDT
DTSTART:20220313T070000
END:DAYLIGHT
BEGIN:STANDARD
TZOFFSETFROM:-0400
TZOFFSETTO:-0500
TZNAME:EST
DTSTART:20221106T060000
END:STANDARD
BEGIN:DAYLIGHT
TZOFFSETFROM:-0500
TZOFFSETTO:-0400
TZNAME:EDT
DTSTART:20230312T070000
END:DAYLIGHT
BEGIN:STANDARD
TZOFFSETFROM:-0400
TZOFFSETTO:-0500
TZNAME:EST
DTSTART:20231105T060000
END:STANDARD
BEGIN:DAYLIGHT
TZOFFSETFROM:-0500
TZOFFSETTO:-0400
TZNAME:EDT
DTSTART:20240310T070000
END:DAYLIGHT
BEGIN:STANDARD
TZOFFSETFROM:-0400
TZOFFSETTO:-0500
TZNAME:EST
DTSTART:20241103T060000
END:STANDARD
END:VTIMEZONE
BEGIN:VEVENT
DTSTART;TZID=America/New_York:20230725T140000
DTEND;TZID=America/New_York:20230725T150000
DTSTAMP:20260423T175026
CREATED:20230713T165451Z
LAST-MODIFIED:20230713T180406Z
UID:3765-1690293600-1690297200@travelwebinars.com
SUMMARY:Luxury Weekend Getaways to NYC & DC
DESCRIPTION:Click to Register \nWhat makes the next-level travel experience in NYC? Unwrapping your vacation experience in the way that your heart desires. It can be daunting when you plan a getaway to the Big Apple\, which offers a whole variety of iconic attractions\, exciting activities\, and dining & hotel options. Our new BTSQ Tour + Hotel Packages are your perfect solution. \nDo you have clients who are opting to take multiple weekend getaways this year instead of a week-long vacation? Or perhaps they’re heading to Europe via connections in New York City or Washington DC and want to spend some time exploring these cities while they’re there? Or maybe they reside in the Northeast and are looking for a drive destination? \nWhatever their reasons are – Beyond Times Square has plenty of options! \nIn our upcoming webinar\, our Content Manager Carole Peck will show you why our luxury travel packages in NYC and DC are the perfect choice for weekend getaways.  \nThe highlights of the webinar are:\n•	What’s New In NYC and DC\n•	Weekend Travel to NYC and DC\n•	BTSQ Signature Experiences\n•	Multiday Experiences\n•	Summer Activities in NYC and DC\n•	Boston as a Summer Destination\n•	Exclusive Thanksgiving Event and Holiday Season Experiences in NYC\n•	Q&A: Interact with our Destination Experts\n 
URL:https://travelwebinars.com/event/luxury-weekend-getaways-to-nyc-dc/
CATEGORIES:Travel Agents
ATTACH;FMTTYPE=image/jpeg:https://travelwebinars.com/wp-content/uploads/2021/04/BTSQ-Logo-2021-sm.jpg
END:VEVENT
BEGIN:VEVENT
DTSTART;TZID=America/New_York:20230726T150000
DTEND;TZID=America/New_York:20230726T160000
DTSTAMP:20260423T175026
CREATED:20230715T130450Z
LAST-MODIFIED:20230715T130450Z
UID:3775-1690383600-1690387200@travelwebinars.com
SUMMARY:The Biodiverse Beauty of Mangrove Forests with Lindblad Expeditions
DESCRIPTION:Click to Register \nIn celebration of International Mangrove Conservation Day\, join undersea specialist and naturalist Rachel Crane for a fascinating presentation on the beauty and biodiversity of the world’s mangrove forests. \nIn this engaging webinar\, Crane\, a marine ecologist with expertise in mangroves\, will go in-depth on the importance of these precious habitats for iconic species in places like Australia\, Costa Rica\, and Galápagos. Learn more about the need to protect these forests which stand along tropical shores and riverbanks\, and how Lindblad Expeditions-National Geographic’s environmental stewardship initiatives are fostering conservation efforts for this critical ecosystem. \nYou’ll also hear from Rachel Woodward\, VP of Sales\, who will share a range of inspiring expeditions that explore different mangroves around the globe. At the end of the webinar\, attendees will receive a special code for $500 per person savings* on the highlighted voyages. \nWe look forward to seeing you on July 26\, but if you cannot join us then\, register now to receive the recorded webinar and watch on demand at your convenience.
URL:https://travelwebinars.com/event/the-biodiverse-beauty-of-mangrove-forests-with-lindblad-expeditions/
CATEGORIES:Lindblad Expeditions,Travel Agents
ATTACH;FMTTYPE=image/jpeg:https://travelwebinars.com/wp-content/uploads/2021/01/Lindblad-Logo.jpg
END:VEVENT
BEGIN:VEVENT
DTSTART;TZID=America/New_York:20230727T160000
DTEND;TZID=America/New_York:20230727T170000
DTSTAMP:20260423T175026
CREATED:20230725T202020Z
LAST-MODIFIED:20230725T202020Z
UID:3781-1690473600-1690477200@travelwebinars.com
SUMMARY:Discover the Wonders of New Zealand’s Great Walks
DESCRIPTION:Click to Register \nJoin Active Adventures this Thursday\, July 27th\, for their next webinar featuring the world-renowned Great Walks of New Zealand. \nIn just twenty minutes\, learn about some of the world’s most awe-inspiring landscapes and why these iconic walking trails top bucket lists for adventurers across the globe. From rugged Fiordland National Park to the volcanic scenery of Tongariro National Park\, each Great Walk offers a unique and unforgettable experience.  \nWhile securing a spot has become increasingly competitive with trails selling out within minutes of booking systems opening\, your clients can experience the trip of a lifetime with Active Adventures. \nUnable to attend the webinar? Register and we will be sure to send you the recording.
URL:https://travelwebinars.com/event/discover-the-wonders-of-new-zealands-great-walks/
CATEGORIES:Travel Agents
ATTACH;FMTTYPE=image/png:https://travelwebinars.com/wp-content/uploads/2023/04/ACTIVE_ADVENTURES_LOGO-400.fw_.png
END:VEVENT
END:VCALENDAR