BEGIN:VCALENDAR
VERSION:2.0
PRODID:-//Travel Webinars - ECPv6.15.20//NONSGML v1.0//EN
CALSCALE:GREGORIAN
METHOD:PUBLISH
X-WR-CALNAME:Travel Webinars
X-ORIGINAL-URL:https://travelwebinars.com
X-WR-CALDESC:Events for Travel Webinars
REFRESH-INTERVAL;VALUE=DURATION:PT1H
X-Robots-Tag:noindex
X-PUBLISHED-TTL:PT1H
BEGIN:VTIMEZONE
TZID:America/New_York
BEGIN:DAYLIGHT
TZOFFSETFROM:-0500
TZOFFSETTO:-0400
TZNAME:EDT
DTSTART:20250309T070000
END:DAYLIGHT
BEGIN:STANDARD
TZOFFSETFROM:-0400
TZOFFSETTO:-0500
TZNAME:EST
DTSTART:20251102T060000
END:STANDARD
BEGIN:DAYLIGHT
TZOFFSETFROM:-0500
TZOFFSETTO:-0400
TZNAME:EDT
DTSTART:20260308T070000
END:DAYLIGHT
BEGIN:STANDARD
TZOFFSETFROM:-0400
TZOFFSETTO:-0500
TZNAME:EST
DTSTART:20261101T060000
END:STANDARD
BEGIN:DAYLIGHT
TZOFFSETFROM:-0500
TZOFFSETTO:-0400
TZNAME:EDT
DTSTART:20270314T070000
END:DAYLIGHT
BEGIN:STANDARD
TZOFFSETFROM:-0400
TZOFFSETTO:-0500
TZNAME:EST
DTSTART:20271107T060000
END:STANDARD
END:VTIMEZONE
BEGIN:VEVENT
DTSTART;TZID=America/New_York:20260505T130000
DTEND;TZID=America/New_York:20260505T140000
DTSTAMP:20260421T174043
CREATED:20260318T201446Z
LAST-MODIFIED:20260421T141231Z
UID:6154-1777986000-1777989600@travelwebinars.com
SUMMARY:Travel For Better Town Hall - Finding the Balance: Using AI Thoughtfully
DESCRIPTION:Click to Register \nAI has made a big splash – and it’s here to stay. In this session\, we’ll explore how AI can be used in ways that feel both practical and aligned with the values shaping the future of travel\, from educating clients and sharing meaningful information to enhancing how you design and communicate experiences. We’ll be joined by Dr. Jill Schiefelbein for this conversation\, bringing her perspective on how to approach AI in a thoughtful and intentional way. \nWe’ll focus on what it means to use AI responsibly\, including a thoughtful look at its environmental impact and how to balance efficiency with intention. This session is designed to help you feel informed\, empowered\, and in control\, so you can decide where AI use fits into your business and how to use it in a way that supports both your clients and the world we’re all working to protect. \nHosted by Travel For Better\, this session is about progress over perfection — sharing real examples\, lessons learned\, and practical ways education and collaboration can support more thoughtful travel experiences for clients and communities alike.
URL:https://travelwebinars.com/event/travel-for-better-town-hall-finding-the-balance-using-ai-thoughtfully/
CATEGORIES:Travel Agents,Travel for Better
ATTACH;FMTTYPE=image/png:https://travelwebinars.com/wp-content/uploads/2026/02/TFB-logoHoriz-650.png
LOCATION:https://travelwebinars.com/event/travel-for-better-town-hall-finding-the-balance-using-ai-thoughtfully/
END:VEVENT
BEGIN:VEVENT
DTSTART;TZID=America/New_York:20260520T130000
DTEND;TZID=America/New_York:20260520T140000
DTSTAMP:20260421T174043
CREATED:20260323T155454Z
LAST-MODIFIED:20260331T131053Z
UID:6160-1779282000-1779285600@travelwebinars.com
SUMMARY:Selling NYC Travel: Summer\, Fall & Holiday Opportunities You Can’t Miss
DESCRIPTION:Click to Register \nNew York City does not have an off-season. It just has different reasons to go. Summer brings big energy\, events\, and family-friendly momentum. Fall is all about perfect walking weather\, culture\, and that classic NYC glow. Reserve your spot and start the NYC conversation now—especially for holiday travel—before the best availability is gone. \nJoin Business Development Manager\, Audra Fuest and special guest Experience Designer\, Christina Ortiz for a story-forward session designed to help you sell NYC across three key seasons\, with the right positioning\, the right itineraries\, and the right sense of timing. We’ll show you how to match each season to the right client\, highlight top NYC itineraries you can sell\, and share simple talking points that help you convert interest into booked trips. \nWhat You’ll Learn: \n\nHow to position NYC differently for summer\, fall\, and holiday travel\nWhich NYC itineraries fit families\, couples\, first-timers\, and repeat travelers\nHow to create urgency and capture early holiday demand\nEasy ways to guide clients toward the right season and the right trip style\nHow we support you from proposal through travel\n\nReserve your spot for this webinar with American Stories Travel and start the NYC conversation now—especially for holiday travel—before the best availability is gone.
URL:https://travelwebinars.com/event/selling-nyc-travel-summer-fall-holiday-opportunities-you-cant-miss/
CATEGORIES:American Stories Travel,New York City,Travel Agents,United States
ATTACH;FMTTYPE=image/png:https://travelwebinars.com/wp-content/uploads/2025/06/American-Stories-Travel-Logo-400px.png
END:VEVENT
END:VCALENDAR