BEGIN:VCALENDAR
VERSION:2.0
PRODID:-//Travel Webinars - ECPv6.15.20//NONSGML v1.0//EN
CALSCALE:GREGORIAN
METHOD:PUBLISH
X-ORIGINAL-URL:https://travelwebinars.com
X-WR-CALDESC:Events for Travel Webinars
REFRESH-INTERVAL;VALUE=DURATION:PT1H
X-Robots-Tag:noindex
X-PUBLISHED-TTL:PT1H
BEGIN:VTIMEZONE
TZID:America/New_York
BEGIN:DAYLIGHT
TZOFFSETFROM:-0500
TZOFFSETTO:-0400
TZNAME:EDT
DTSTART:20240310T070000
END:DAYLIGHT
BEGIN:STANDARD
TZOFFSETFROM:-0400
TZOFFSETTO:-0500
TZNAME:EST
DTSTART:20241103T060000
END:STANDARD
BEGIN:DAYLIGHT
TZOFFSETFROM:-0500
TZOFFSETTO:-0400
TZNAME:EDT
DTSTART:20250309T070000
END:DAYLIGHT
BEGIN:STANDARD
TZOFFSETFROM:-0400
TZOFFSETTO:-0500
TZNAME:EST
DTSTART:20251102T060000
END:STANDARD
BEGIN:DAYLIGHT
TZOFFSETFROM:-0500
TZOFFSETTO:-0400
TZNAME:EDT
DTSTART:20260308T070000
END:DAYLIGHT
BEGIN:STANDARD
TZOFFSETFROM:-0400
TZOFFSETTO:-0500
TZNAME:EST
DTSTART:20261101T060000
END:STANDARD
END:VTIMEZONE
BEGIN:VEVENT
DTSTART;TZID=America/New_York:20250520T120000
DTEND;TZID=America/New_York:20250520T130000
DTSTAMP:20260425T100233
CREATED:20250512T183425Z
LAST-MODIFIED:20250512T183425Z
UID:5836-1747742400-1747746000@travelwebinars.com
SUMMARY:Essential Peru: Culture\, Nature & Adventure on a Complete Route
DESCRIPTION:Click to Register \nAre you ready to explore Peru through a full cultural and natural immersion? \nJoin Latin Trails for an exclusive webinar and gain the tools to create complete\, immersive Peru itineraries—combining world wonders\, hidden gems\, and unforgettable experiences. \nIn this webinar\, you’ll learn how to: \n\nDesign a well-rounded Peru itinerary that combines cultural cities\, ancient ruins\, and natural wonders\nExplore lesser-known regions rich in archaeology\, tradition\, and scenic beauty\nRecommend immersive urban experiences—food\, art\, and heritage\nInclude top trekking and adventure options with camping opportunities\nCompare Amazon rainforest lodges and river cruises for nature-focused travel\nNavigate domestic flights and logistics to streamline itineraries\n\nPresented by:\nMarcel Perkins\, Managing Director of Latin Trails \nBringing years of expertise in crafting authentic journeys across South America. \nRegister now and elevate your Peru travel knowledge to the next level!
URL:https://travelwebinars.com/event/essential-peru-culture-nature-adventure-on-a-complete-route/
CATEGORIES:Latin Trails,South America,Travel Agents
ATTACH;FMTTYPE=image/jpeg:https://travelwebinars.com/wp-content/uploads/2022/08/LATIN-TRAILS-NEW-LOGO_300px.jpg
END:VEVENT
BEGIN:VEVENT
DTSTART;TZID=America/New_York:20250522T150000
DTEND;TZID=America/New_York:20250522T153000
DTSTAMP:20260425T100233
CREATED:20250508T231729Z
LAST-MODIFIED:20250508T232034Z
UID:5832-1747926000-1747927800@travelwebinars.com
SUMMARY:Ultra-Luxe Journeys to Morocco
DESCRIPTION:Click to Register \nWe invite you to join Blue Parallel’s Morocco experts for a luxury journey through the country’s cultural treasures and fascinating heritage. Together\, we will embark on a sensory journey through Morocco’s natural and cultural highlights\, from the living history of Fes’ ancient medina to the majestic peaks of the High Atlas Mountains\, down through the lush valleys of Berber farmlands and onto the vibrant Red City of Marrakesh. Sign up for this live webinar today. \nINSIDER ACCESS\nDiscover a deeper side of Morocco through Blue Parallel’s insider experiences. From exclusive access to the private home of the late Yves Saint Laurent to refreshments with a Berber family in their home\, your travelers will enjoy authentic moments designed for true cultural immersion. \nPRIVACY\nMorocco’s diverse landscapes offer unmatched opportunities for seclusion. Whether it’s a private desert camp\, a luxury riad with its own private pool\, or a private cooking class\, your guests will explore the country’s wonders away from the crowds. \nEPIC OUTDOOR ADVENTURES\nVenture through Morocco’s most stunning landscapes\, from hiking in the High Atlas Mountains and camel rides across rolling desert dunes\, to biking through the Ouirgane Valley and a nature walk through the Almond Valley \nWHITE-GLOVE SERVICE\nEnhance your travelers’ Moroccan journey with exclusive accommodations\, smooth logistics\, and thoughtful VIP touches. Guests can enjoy private plane and helicopter transfers\, exclusive fully serviced dinners and picnics in spectacular natural settings\, and much more.
URL:https://travelwebinars.com/event/ultra-luxe-journeys-to-morocco/
CATEGORIES:Blue Parallel,Travel Agents
ATTACH;FMTTYPE=image/jpeg:https://travelwebinars.com/wp-content/uploads/2017/04/blue-parallel-logo-2017.jpg
END:VEVENT
END:VCALENDAR