BEGIN:VCALENDAR
VERSION:2.0
PRODID:-//Travel Webinars - ECPv6.15.20//NONSGML v1.0//EN
CALSCALE:GREGORIAN
METHOD:PUBLISH
X-WR-CALNAME:Travel Webinars
X-ORIGINAL-URL:https://travelwebinars.com
X-WR-CALDESC:Events for Travel Webinars
REFRESH-INTERVAL;VALUE=DURATION:PT1H
X-Robots-Tag:noindex
X-PUBLISHED-TTL:PT1H
BEGIN:VTIMEZONE
TZID:America/New_York
BEGIN:DAYLIGHT
TZOFFSETFROM:-0500
TZOFFSETTO:-0400
TZNAME:EDT
DTSTART:20160313T070000
END:DAYLIGHT
BEGIN:STANDARD
TZOFFSETFROM:-0400
TZOFFSETTO:-0500
TZNAME:EST
DTSTART:20161106T060000
END:STANDARD
BEGIN:DAYLIGHT
TZOFFSETFROM:-0500
TZOFFSETTO:-0400
TZNAME:EDT
DTSTART:20170312T070000
END:DAYLIGHT
BEGIN:STANDARD
TZOFFSETFROM:-0400
TZOFFSETTO:-0500
TZNAME:EST
DTSTART:20171105T060000
END:STANDARD
BEGIN:DAYLIGHT
TZOFFSETFROM:-0500
TZOFFSETTO:-0400
TZNAME:EDT
DTSTART:20180311T070000
END:DAYLIGHT
BEGIN:STANDARD
TZOFFSETFROM:-0400
TZOFFSETTO:-0500
TZNAME:EST
DTSTART:20181104T060000
END:STANDARD
END:VTIMEZONE
BEGIN:VEVENT
DTSTART;TZID=America/New_York:20170524T120000
DTEND;TZID=America/New_York:20170524T130000
DTSTAMP:20260419T230121
CREATED:20170501T150013Z
LAST-MODIFIED:20170501T150013Z
UID:351-1495627200-1495630800@travelwebinars.com
SUMMARY:Goway's Germany
DESCRIPTION:Click to Register\nBrought to you by Travel Research Online.  Join Goway Travel as they take you on a journey of Germany. Discover more about this popular destination and learn how Goway can assist you in getting your clients getting beyond the gateway cities.
URL:https://travelwebinars.com/event/tro-goway-may2017/
CATEGORIES:Audience,Goway,Travel Agents,Travel Research Online
ATTACH;FMTTYPE=image/jpeg:https://travelwebinars.com/wp-content/uploads/2017/05/tro-goway.jpg
END:VEVENT
END:VCALENDAR