BEGIN:VCALENDAR
VERSION:2.0
PRODID:-//Travel Webinars - ECPv6.15.20//NONSGML v1.0//EN
CALSCALE:GREGORIAN
METHOD:PUBLISH
X-ORIGINAL-URL:https://travelwebinars.com
X-WR-CALDESC:Events for Travel Webinars
REFRESH-INTERVAL;VALUE=DURATION:PT1H
X-Robots-Tag:noindex
X-PUBLISHED-TTL:PT1H
BEGIN:VTIMEZONE
TZID:America/New_York
BEGIN:DAYLIGHT
TZOFFSETFROM:-0500
TZOFFSETTO:-0400
TZNAME:EDT
DTSTART:20240310T070000
END:DAYLIGHT
BEGIN:STANDARD
TZOFFSETFROM:-0400
TZOFFSETTO:-0500
TZNAME:EST
DTSTART:20241103T060000
END:STANDARD
BEGIN:DAYLIGHT
TZOFFSETFROM:-0500
TZOFFSETTO:-0400
TZNAME:EDT
DTSTART:20250309T070000
END:DAYLIGHT
BEGIN:STANDARD
TZOFFSETFROM:-0400
TZOFFSETTO:-0500
TZNAME:EST
DTSTART:20251102T060000
END:STANDARD
BEGIN:DAYLIGHT
TZOFFSETFROM:-0500
TZOFFSETTO:-0400
TZNAME:EDT
DTSTART:20260308T070000
END:DAYLIGHT
BEGIN:STANDARD
TZOFFSETFROM:-0400
TZOFFSETTO:-0500
TZNAME:EST
DTSTART:20261101T060000
END:STANDARD
END:VTIMEZONE
BEGIN:VEVENT
DTSTART;TZID=America/New_York:20251016T150000
DTEND;TZID=America/New_York:20251016T153000
DTSTAMP:20260419T232332
CREATED:20251001T170618Z
LAST-MODIFIED:20251001T170618Z
UID:5946-1760626800-1760628600@travelwebinars.com
SUMMARY:Ultra-Luxe Journeys to Iceland
DESCRIPTION:Click to Register \nEmbark on an unparalleled journey through Iceland with Blue Parallel’s luxury travel experts. Join our exclusive live webinar to discover how we craft bespoke adventures that immerse discerning travelers in Iceland’s most awe-inspiring landscapes. From the ethereal glow of the Northern Lights dancing above in the winter to the midnight sun in the summer months\, our tailor-made itineraries offer intimate access to Iceland’s natural wonders.  \nINSIDER ACCESS\nDiscover Iceland’s hidden gems\, from an insider private rib boat tour of the Westman Islands to enjoying a secluded section of the Blue Lagoon\, an exclusive sanctuary beneath an ancient lava field. Our invaluable relationships in Iceland provide unparalleled access and refined exclusivity for your most discerning travelers \nPRIVACY\nOffer complete seclusion with access to exclusive\, fully staffed villas that serve as private havens after a day of exploration. Guests can soar over glaciers and volcanoes on a helicopter expedition along the South Coast or embark on a private whale-watching tour through Eyjafjörður Fjord\, enjoying unique excursions far from the crowds. \nEPIC OUTDOOR ADVENTURES\nAdventurous travelers can trek across the Sólheimajökull glacier with a private guide\, snorkel or dive into the crystal-clear Silfra fissure\, or snowmobile along Eyjafjallajökull’s volcanic slopes. In winter\, bespoke heli-skiing itineraries offer adrenaline-fueled thrills tailored to every ability. These custom outdoor experiences highlight Iceland’s dramatic landscapes while delivering excitement\, exclusivity\, and discovery at every turn. \nWHITE-GLOVE SERVICE\nEvery element of your clients’ journey is designed with flawless precision. Private chefs craft gourmet meals\, expert guides provide insider knowledge\, and seamless transfers connect Iceland’s most breathtaking sites. Handpicked luxury accommodations allow guests to enjoy world-class amenities\, personalized attention\, and effortless luxury.
URL:https://travelwebinars.com/event/ultra-luxe-journeys-to-peru-2-2/
CATEGORIES:Blue Parallel,Travel Agents
ATTACH;FMTTYPE=image/jpeg:https://travelwebinars.com/wp-content/uploads/2017/04/blue-parallel-logo-2017.jpg
END:VEVENT
END:VCALENDAR