BEGIN:VCALENDAR
VERSION:2.0
PRODID:-//Travel Webinars - ECPv6.15.20//NONSGML v1.0//EN
CALSCALE:GREGORIAN
METHOD:PUBLISH
X-ORIGINAL-URL:https://travelwebinars.com
X-WR-CALDESC:Events for Travel Webinars
REFRESH-INTERVAL;VALUE=DURATION:PT1H
X-Robots-Tag:noindex
X-PUBLISHED-TTL:PT1H
BEGIN:VTIMEZONE
TZID:America/New_York
BEGIN:DAYLIGHT
TZOFFSETFROM:-0500
TZOFFSETTO:-0400
TZNAME:EDT
DTSTART:20160313T070000
END:DAYLIGHT
BEGIN:STANDARD
TZOFFSETFROM:-0400
TZOFFSETTO:-0500
TZNAME:EST
DTSTART:20161106T060000
END:STANDARD
BEGIN:DAYLIGHT
TZOFFSETFROM:-0500
TZOFFSETTO:-0400
TZNAME:EDT
DTSTART:20170312T070000
END:DAYLIGHT
BEGIN:STANDARD
TZOFFSETFROM:-0400
TZOFFSETTO:-0500
TZNAME:EST
DTSTART:20171105T060000
END:STANDARD
BEGIN:DAYLIGHT
TZOFFSETFROM:-0500
TZOFFSETTO:-0400
TZNAME:EDT
DTSTART:20180311T070000
END:DAYLIGHT
BEGIN:STANDARD
TZOFFSETFROM:-0400
TZOFFSETTO:-0500
TZNAME:EST
DTSTART:20181104T060000
END:STANDARD
END:VTIMEZONE
BEGIN:VTIMEZONE
TZID:America/Los_Angeles
BEGIN:DAYLIGHT
TZOFFSETFROM:-0800
TZOFFSETTO:-0700
TZNAME:PDT
DTSTART:20160313T100000
END:DAYLIGHT
BEGIN:STANDARD
TZOFFSETFROM:-0700
TZOFFSETTO:-0800
TZNAME:PST
DTSTART:20161106T090000
END:STANDARD
BEGIN:DAYLIGHT
TZOFFSETFROM:-0800
TZOFFSETTO:-0700
TZNAME:PDT
DTSTART:20170312T100000
END:DAYLIGHT
BEGIN:STANDARD
TZOFFSETFROM:-0700
TZOFFSETTO:-0800
TZNAME:PST
DTSTART:20171105T090000
END:STANDARD
BEGIN:DAYLIGHT
TZOFFSETFROM:-0800
TZOFFSETTO:-0700
TZNAME:PDT
DTSTART:20180311T100000
END:DAYLIGHT
BEGIN:STANDARD
TZOFFSETFROM:-0700
TZOFFSETTO:-0800
TZNAME:PST
DTSTART:20181104T090000
END:STANDARD
END:VTIMEZONE
BEGIN:VEVENT
DTSTART;TZID=America/New_York:20171026T130000
DTEND;TZID=America/New_York:20171026T134500
DTSTAMP:20260420T031603
CREATED:20171022T213036Z
LAST-MODIFIED:20171022T213036Z
UID:625-1509022800-1509025500@travelwebinars.com
SUMMARY:The Bucket List Cruise: New York to Montreal\, 13 nights
DESCRIPTION:Click to Register \nCruise the scenic and picturesque waterways of North America in 2018 with Blount Small Ship Adventures\, departing from New York City on a 14-day cruise to Montreal\, QC. With fewer than 84 passengers onboard\, travel the waterways that blend U.S. and Canadian cultures. Accompanied by an onboard historian\, experience the Erie Canal on the only over night cruise line able to transit this historic waterway. Continue into the stunning 1000 Islands region along the scenic St. Lawrence River before visiting Montreal and Quebec. Plus\, cruise the majestic Saguenay River\, north of Quebec for awe-inspiring scenery throughout the fjords and whale-watching from the vessel. \nDid you know?\n• Blount Small Ship Adventures has over 50 years of experience in small ship cruising\n• Blount has vessels built different by design\, making them the only overnight cruise line to transit the Erie Canal\n• Blount offers a unique BYOB policy and encourages casual dress onboard \nTo learn more about Blount’s New York to Montreal Cruise\, register for our webinar! \n 
URL:https://travelwebinars.com/event/blount-small-ship-adventures-webinar-oct26/
CATEGORIES:Blount Small Ship Adventures,Central America
ATTACH;FMTTYPE=image/jpeg:https://travelwebinars.com/wp-content/uploads/2017/03/Blount.jpg
END:VEVENT
BEGIN:VEVENT
DTSTART;TZID=America/New_York:20170824T130000
DTEND;TZID=America/New_York:20170824T134500
DTSTAMP:20260420T031603
CREATED:20170822T151814Z
LAST-MODIFIED:20170822T151814Z
UID:534-1503579600-1503582300@travelwebinars.com
SUMMARY:Birding in Belize & Guatemala A 12-day Small Ship Adventure
DESCRIPTION:Click to Register \nCalling all birders! This signature Blount adventure will bring your clients up close to the natural wonders of Belize & Guatemala. A route discovered over 40 years ago by Captain Luther Blount\, this cruise takes passengers where the big ships will never go – pulling onto remote cayes with the Blount bow landing and exploring villages away from crowded tourist destinations. Join Dr. Matt Perry\, a birding group leader onboard as well as naturalist and Belize local Luz Hunter on organized birding excursions! Highlights include Crooked Tree Wildlife Sanctuary\, Man-O-War Caye\, Southwater Caye\, Red Bank\, Castillo de San Felipe\, plus complimentary kayaking and snorkeling. \nJoin us for a quick & informative webinar so you can reach out to your clients with this very special experience! \n  \n 
URL:https://travelwebinars.com/event/birding-belize-guatemala-12-day-small-ship-adventure/
CATEGORIES:Blount Small Ship Adventures,Central America
ATTACH;FMTTYPE=image/jpeg:https://travelwebinars.com/wp-content/uploads/2017/03/Blount.jpg
END:VEVENT
BEGIN:VEVENT
DTSTART;TZID=America/New_York:20170622T130000
DTEND;TZID=America/New_York:20170622T134500
DTSTAMP:20260420T031603
CREATED:20170615T170608Z
LAST-MODIFIED:20170615T170608Z
UID:450-1498136400-1498139100@travelwebinars.com
SUMMARY:Blount’s Signature Belize & Guatemala Cruise- Get Closer by Small Ship
DESCRIPTION:Click to Register \nFor over 30 years\, Blount Small Ship Adventures has adventured the waterways of Belize and Guatemala with curious travelers. Blount Small Ship Adventures is offering 3 departures Dec – Jan 2018. There is a joyous simplicity about Belize. Somehow this small country leaves an indelible impression on all visitors. From viewing wildlife\, nature and Mayan ruins to snorkeling over the second largest  barrier reef in the world\, Belize has something for everyone and Blount can take you there like no other cruise line can! December 28\, your clients and celebrate the New Year in paradise. • It’s Included: • – Free transfers between the vessel and Belize City airport. • – 3 chef-prepared meals a day and unique BYOB policy • – Snorkel gear and kayaking at select ports • – An onboard naturalist and Belize local will enhance your experience with personal commentary\, educational walks and snorkeling instruction. • – Take a glass bottom boat ride to view marine life below the surface • – A visit to Casa Guatemala orphanage • – Experience a Blount bow landing in Placencia • – Play in Goff Cay where warm waters support thriving populations of lobster and conch. • – In Belize\, the sounds of the Caribbean come alive as a steel drum band performs onboard • • Ports Visited: • Belize City\, Belize • Man-O-War Caye • Southwater Caye\, Belize • Placencia Village\, Belize • Lime Caye • Punta Gorda\, Belize • Livingston\, Guatemala • Castillo de San Felipe\, Guatemala • Nana Juana Resort\, Guatemala • Casa Guatemala • West Snake Caye\, Belize • Water Cay\, Belize • Goff Cay\, Belize Attend our webinar to learn more about this one-of-a-kind itinerary!  \n 
URL:https://travelwebinars.com/event/blount-small-ships-june2017/
CATEGORIES:Blount Small Ship Adventures,Central America
ATTACH;FMTTYPE=image/jpeg:https://travelwebinars.com/wp-content/uploads/2017/03/Blount.jpg
END:VEVENT
BEGIN:VEVENT
DTSTART;TZID=America/New_York:20170516T130000
DTEND;TZID=America/New_York:20170516T134500
DTSTAMP:20260420T031603
CREATED:20170501T144757Z
LAST-MODIFIED:20170501T144757Z
UID:342-1494939600-1494942300@travelwebinars.com
SUMMARY:Exploring Lake Michigan by Small Ship
DESCRIPTION:Click to Register \nSmall ship cruising on Lake Michigan is the perfect getaway to the exploring bustling cities and charming coastal towns along its shores. Blount Small Ship Adventures has planned the perfect itinerary for 2017: Magical Lake Michigan. Three cruises are planned for August 2017 (Aug 7\, 16 & 25). You clients will traverse the fifth-largest lake in the world through a seven-night cruise on the  BSSA’s Grande Mariner\, beginning and ending at Chicago’s Burnham Harbor on the Museum Campus\, within walking distance of downtown.  \nPorts include: • Chicago\, IL • Holland\, MI • Beaver Island\, MI • Mackinac Island\, MI • Sturgeon Bay\, WI • Manitowoc\, WI • Milwaukee\, WI  \nKnown for unique itineraries\, passengers will access lesser known ports and explore destinations rich in history and culture. On Blount’s small ships\, guests enjoy a casual\, uncrowded atmosphere with less than 84 passengers. Cabins are air-conditioned with a private bath. Just 3 dates in August\, learn about our special Lake Michigan discount\, limited time only!
URL:https://travelwebinars.com/event/blount-may16-2017/
CATEGORIES:Blount Small Ship Adventures
ATTACH;FMTTYPE=image/jpeg:https://travelwebinars.com/wp-content/uploads/2017/03/Blount.jpg
END:VEVENT
BEGIN:VEVENT
DTSTART;TZID=America/New_York:20170420T130000
DTEND;TZID=America/New_York:20170420T134500
DTSTAMP:20260420T031603
CREATED:20170414T144011Z
LAST-MODIFIED:20170414T144011Z
UID:307-1492693200-1492695900@travelwebinars.com
SUMMARY:What's new for 2018 at Blount Small Ship Adventures!
DESCRIPTION:Click to Register \nThis webinar focuses on Blount’s 2018 itineraries\, with 5 new and exciting additions to our 2018 schedule. This webinar will be a brief overview of offerings for 2018\, highlighting 5 NEW itineraries Blount will be launching.\nNEW itineraries for 2018:\n• The New England Sampler\, roundtrip from Boston\, MA\n• Maine & New Brunswick\, roundtrip from Boston\, MA\n• West Palm Beach to Savannah\n• Savannah to Baltimore\n• 4-Day New England Escape \nAlso part of 2018:\n• Magical Lake Michigan\n• Islands of New England\n• Great American Waterways\, now departing and concluding from New York\, NY\n• Locks\, Legends & Canals of the Northeast\n• The Saguenay \nAre your client’s looking for the small ship experience? Curious\, casual\, and adventurous are three words our passengers use to describe themselves. And when you cruise with Blount\, there’s just 80 or so other travelers with you. They too are looking for something more personal than what large ships offer. Learn more about our unique itineraries\, welcoming atmosphere and some of the friendliest staff and crew in the business that make sailing with Blount feel like cruising on your friend’s yacht. \nRegister today and learn which 2018 itinerary is the next adventure for your client.
URL:https://travelwebinars.com/event/whats-new-for-2018-at-blount-small-ship-adventures/
CATEGORIES:Blount Small Ship Adventures
ATTACH;FMTTYPE=image/jpeg:https://travelwebinars.com/wp-content/uploads/2017/03/Blount.jpg
END:VEVENT
BEGIN:VEVENT
DTSTART;TZID=America/Los_Angeles:20170228T100000
DTEND;TZID=America/Los_Angeles:20170228T110000
DTSTAMP:20260420T031603
CREATED:20170223T181052Z
LAST-MODIFIED:20170316T002757Z
UID:61-1488276000-1488279600@travelwebinars.com
SUMMARY:Blount’s New England Islands Independence Day Cruise
DESCRIPTION:[video_lightbox_vimeo5 video_id=”205214355″ width=”640″ height=”480″ anchor=”Watch Webinar Now”]\nThe Fourth of July is one celebration that New Englanders take very seriously- and it’s never just a day long. This year Blount Small Ship Adventures is offering travelers the chance to enjoy the 4th like a New Englander with a 7 day cruise from June 30th- July 7\, 2017. On this trip\, passengers will voyage through Nantucket\, Martha’s Vineyard\, Block Island and Newport during one of the most celebrated holidays in the region. \nBlount plans to keep the celebrations alive on and off the vessel. Hosting a red\, white and blue themed party on the top deck\, cooking up an old fashioned Yankee clam bake\, lots of lobster\, musical entertainment and a big firework display from the boat in Newport\, RI. In addition passengers will be able to enjoy the “BYOB” policy onboard\, where they can store their own beer\, wine or liquor on the vessel without worrying about costly bar tabs. \nRegister for this webinar today and learn more about Blount’s special June 30th Independence Day Cruise. Plus\, the summer schedule for our 7 day Islands of New England itinerary.
URL:https://travelwebinars.com/event/blounts-new-england-islands-independence-day-cruise/
CATEGORIES:Blount Small Ship Adventures,Supplier
ATTACH;FMTTYPE=image/jpeg:https://travelwebinars.com/wp-content/uploads/2017/02/blount_logo1.jpg
END:VEVENT
END:VCALENDAR