BEGIN:VCALENDAR
VERSION:2.0
PRODID:-//Travel Webinars - ECPv6.15.20//NONSGML v1.0//EN
CALSCALE:GREGORIAN
METHOD:PUBLISH
X-ORIGINAL-URL:https://travelwebinars.com
X-WR-CALDESC:Events for Travel Webinars
REFRESH-INTERVAL;VALUE=DURATION:PT1H
X-Robots-Tag:noindex
X-PUBLISHED-TTL:PT1H
BEGIN:VTIMEZONE
TZID:America/New_York
BEGIN:DAYLIGHT
TZOFFSETFROM:-0500
TZOFFSETTO:-0400
TZNAME:EDT
DTSTART:20160313T070000
END:DAYLIGHT
BEGIN:STANDARD
TZOFFSETFROM:-0400
TZOFFSETTO:-0500
TZNAME:EST
DTSTART:20161106T060000
END:STANDARD
BEGIN:DAYLIGHT
TZOFFSETFROM:-0500
TZOFFSETTO:-0400
TZNAME:EDT
DTSTART:20170312T070000
END:DAYLIGHT
BEGIN:STANDARD
TZOFFSETFROM:-0400
TZOFFSETTO:-0500
TZNAME:EST
DTSTART:20171105T060000
END:STANDARD
BEGIN:DAYLIGHT
TZOFFSETFROM:-0500
TZOFFSETTO:-0400
TZNAME:EDT
DTSTART:20180311T070000
END:DAYLIGHT
BEGIN:STANDARD
TZOFFSETFROM:-0400
TZOFFSETTO:-0500
TZNAME:EST
DTSTART:20181104T060000
END:STANDARD
BEGIN:DAYLIGHT
TZOFFSETFROM:-0500
TZOFFSETTO:-0400
TZNAME:EDT
DTSTART:20190310T070000
END:DAYLIGHT
BEGIN:STANDARD
TZOFFSETFROM:-0400
TZOFFSETTO:-0500
TZNAME:EST
DTSTART:20191103T060000
END:STANDARD
END:VTIMEZONE
BEGIN:VEVENT
DTSTART;TZID=America/New_York:20180823T130000
DTEND;TZID=America/New_York:20180823T140000
DTSTAMP:20260423T161548
CREATED:20180713T152516Z
LAST-MODIFIED:20180723T132747Z
UID:1062-1535029200-1535032800@travelwebinars.com
SUMMARY:Small Group Touring through Europe
DESCRIPTION:Click to Register\nBrought to you by Travel Research Online.  Do you have clients interested in the concept of an escorted tour but no desire to travel long days in a large bus? Look no further! Join us for an informative webinar about Back-Roads Touring Co and give those clients an option they will love!  Back-Roads Touring Co\, a London based tour company\, has specialized in leisurely paced scheduled departures through the UK\, Europe\, and Asia for the last  28 years.  This webinar will cover their touring portfolio\, including their newly released 2019 schedules\, all the selling features you’ll need to know to sell their destinations\, and give a more in depth look into the unique travel experience provided to your clients.
URL:https://travelwebinars.com/event/small-group-touring-europe-2-2/
CATEGORIES:Audience,Back-Roads Touring Co.,Europe,Travel Agents,Travel Research Online
ATTACH;FMTTYPE=image/jpeg:https://travelwebinars.com/wp-content/uploads/2017/07/tro-backroads-touring.jpg
END:VEVENT
BEGIN:VEVENT
DTSTART;TZID=America/New_York:20180417T130000
DTEND;TZID=America/New_York:20180417T140000
DTSTAMP:20260423T161548
CREATED:20180406T193445Z
LAST-MODIFIED:20180406T193445Z
UID:879-1523970000-1523973600@travelwebinars.com
SUMMARY:Small Group Touring through Europe
DESCRIPTION:Click to Register\nBrought to you by Travel Research Online.  London based Back-Roads Touring Co\, the experts in Small Group Touring\, is pleased to join Travel Research Online for an informative webinar all about their unique style of touring.  From just 15-18 passengers per tour\, boutique accommodations\, authentic local experiences\, knowledgeable tour guides\, leisurely paced itineraries\, and so much more\, these tours will soon be on the forefront of every  clients mind.  With tours through the UK and Europe\, and their most recent additions through Asia\, Back-Roads Touring Co offers a unique touring option for your travelers.  Join us as we uncover the key selling features\, and learn more about the Roads Less Traveled with Back-Roads Touring Co.
URL:https://travelwebinars.com/event/small-group-touring-europe-2/
CATEGORIES:Audience,Back-Roads Touring Co.,Europe,Travel Agents,Travel Research Online
ATTACH;FMTTYPE=image/jpeg:https://travelwebinars.com/wp-content/uploads/2017/07/tro-backroads-touring.jpg
END:VEVENT
BEGIN:VEVENT
DTSTART;TZID=America/New_York:20170816T130000
DTEND;TZID=America/New_York:20170816T140000
DTSTAMP:20260423T161548
CREATED:20170814T192010Z
LAST-MODIFIED:20170814T192010Z
UID:521-1502888400-1502892000@travelwebinars.com
SUMMARY:Let Your Clients Discover the Beauty of China on Xiamen Air
DESCRIPTION:Click to Register\nBrought to you by Travel Research Online. \nJoin our webinar and learn about refreshing Fujian\, beautiful Xiamen – China’s unique city has been recently voted the prettiest and greenest in the whole country! Located on the south coast in the Fujian Province\, Xiamen offers a fine mix of city\, cultural\, and beach attractions. With origins dating back 5\,000 years\, trade has been the lifeblood of Xiamen\, and the city has grown on the commerce from merchants\, both Chinese and European\, who used Xiamen as their ‘Gateway to China’. \nAs one of the main seaports since ancient times\, Xiamen is surrounded by mountains and wide deep water without freezing all year round\, thus earning its name of “The Gate of China”. Visitors can immerse in fantastic landscapes and unique culture\, and popular attractions include Gulangyu Island\, Mount Wuyi\, South Putuo Temple and Taining Danxia Landform. \nBased in Fujian Province\, Xiamen Airlines\, China’s fifth largest carrier\, offers easy connections to mainland China via three U.S. gateways: New York JFK\, Seattle (SEA)\, and Los Angeles (LAX)\, operated on ultra-modern Boeing 787 Dreamliner aircraft. \nA proud SkyTeam member\, Xiamen Airlines operates 300 domestic plus 60 international and regional routes\, flying 25 Million passengers a year. Xiamen Airlines was voted ‘China’s Best Airline’ in passenger surveys\, conducted by China’s Civil Aviation Passenger Service Evaluation (CAPSE) for four consecutive years\, and has also earned numerous awards for flight safety. \nU.S. citizens traveling via Xiamen\, may take advantage of the ’72-Hour Visa-Free Transit’ policy\, allowing to stay for up to 72 hours without a visa on direct transit. Xiamen Airlines provides free hotel accommodation for passengers with layovers between 6 and 24 hours in Xiamen. For passengers with layovers between 2 and 24 hours\, the transit lounge or transit sightseeing is available complimentary.
URL:https://travelwebinars.com/event/let-clients-discover-beauty-china-xiamen-air/
CATEGORIES:Audience,Back-Roads Touring Co.,Travel Agents,Travel Research Online
ATTACH;FMTTYPE=image/jpeg:https://travelwebinars.com/wp-content/uploads/2017/08/tro-xiamen.jpg
END:VEVENT
BEGIN:VEVENT
DTSTART;TZID=America/New_York:20170801T130000
DTEND;TZID=America/New_York:20170801T140000
DTSTAMP:20260423T161548
CREATED:20170731T192511Z
LAST-MODIFIED:20170731T192511Z
UID:509-1501592400-1501596000@travelwebinars.com
SUMMARY:Small Group Touring through Europe
DESCRIPTION:Click to Register\nBrought to you by Travel Research Online.  Please join us for an informative webinar with Back-Roads Touring Co\, a London based Tour Operator specializing in leisurely paced small group escorted tours.  Jim Tedesco\, VP of Sales-North America at Back-Roads Touring\, will explore with you the key selling points of the Back-Roads Touring experience and showcase their newly launched 2018 touring portfolio.  With brand new tours across Dubai\,  Malta\, Iceland\, Naples\, Madeira\, and more across the UK being introduced and now on sale\, the complete 2018 touring portfolio is one not to be missed. Come learn more and find out why more and more clients are choosing the roads less travelled for their next European touring experience.
URL:https://travelwebinars.com/event/small-group-touring-europe/
CATEGORIES:Audience,Back-Roads Touring Co.,Europe,Travel Agents,Travel Research Online
ATTACH;FMTTYPE=image/jpeg:https://travelwebinars.com/wp-content/uploads/2017/07/tro-backroads-touring.jpg
END:VEVENT
END:VCALENDAR