BEGIN:VCALENDAR
VERSION:2.0
PRODID:-//Travel Webinars - ECPv6.15.20//NONSGML v1.0//EN
CALSCALE:GREGORIAN
METHOD:PUBLISH
X-WR-CALNAME:Travel Webinars
X-ORIGINAL-URL:https://travelwebinars.com
X-WR-CALDESC:Events for Travel Webinars
REFRESH-INTERVAL;VALUE=DURATION:PT1H
X-Robots-Tag:noindex
X-PUBLISHED-TTL:PT1H
BEGIN:VTIMEZONE
TZID:America/New_York
BEGIN:DAYLIGHT
TZOFFSETFROM:-0500
TZOFFSETTO:-0400
TZNAME:EDT
DTSTART:20170312T070000
END:DAYLIGHT
BEGIN:STANDARD
TZOFFSETFROM:-0400
TZOFFSETTO:-0500
TZNAME:EST
DTSTART:20171105T060000
END:STANDARD
BEGIN:DAYLIGHT
TZOFFSETFROM:-0500
TZOFFSETTO:-0400
TZNAME:EDT
DTSTART:20180311T070000
END:DAYLIGHT
BEGIN:STANDARD
TZOFFSETFROM:-0400
TZOFFSETTO:-0500
TZNAME:EST
DTSTART:20181104T060000
END:STANDARD
BEGIN:DAYLIGHT
TZOFFSETFROM:-0500
TZOFFSETTO:-0400
TZNAME:EDT
DTSTART:20190310T070000
END:DAYLIGHT
BEGIN:STANDARD
TZOFFSETFROM:-0400
TZOFFSETTO:-0500
TZNAME:EST
DTSTART:20191103T060000
END:STANDARD
BEGIN:DAYLIGHT
TZOFFSETFROM:-0500
TZOFFSETTO:-0400
TZNAME:EDT
DTSTART:20200308T070000
END:DAYLIGHT
BEGIN:STANDARD
TZOFFSETFROM:-0400
TZOFFSETTO:-0500
TZNAME:EST
DTSTART:20201101T060000
END:STANDARD
BEGIN:DAYLIGHT
TZOFFSETFROM:-0500
TZOFFSETTO:-0400
TZNAME:EDT
DTSTART:20210314T070000
END:DAYLIGHT
BEGIN:STANDARD
TZOFFSETFROM:-0400
TZOFFSETTO:-0500
TZNAME:EST
DTSTART:20211107T060000
END:STANDARD
END:VTIMEZONE
BEGIN:VTIMEZONE
TZID:America/Los_Angeles
BEGIN:DAYLIGHT
TZOFFSETFROM:-0800
TZOFFSETTO:-0700
TZNAME:PDT
DTSTART:20160313T100000
END:DAYLIGHT
BEGIN:STANDARD
TZOFFSETFROM:-0700
TZOFFSETTO:-0800
TZNAME:PST
DTSTART:20161106T090000
END:STANDARD
BEGIN:DAYLIGHT
TZOFFSETFROM:-0800
TZOFFSETTO:-0700
TZNAME:PDT
DTSTART:20170312T100000
END:DAYLIGHT
BEGIN:STANDARD
TZOFFSETFROM:-0700
TZOFFSETTO:-0800
TZNAME:PST
DTSTART:20171105T090000
END:STANDARD
BEGIN:DAYLIGHT
TZOFFSETFROM:-0800
TZOFFSETTO:-0700
TZNAME:PDT
DTSTART:20180311T100000
END:DAYLIGHT
BEGIN:STANDARD
TZOFFSETFROM:-0700
TZOFFSETTO:-0800
TZNAME:PST
DTSTART:20181104T090000
END:STANDARD
BEGIN:DAYLIGHT
TZOFFSETFROM:-0800
TZOFFSETTO:-0700
TZNAME:PDT
DTSTART:20190310T100000
END:DAYLIGHT
BEGIN:STANDARD
TZOFFSETFROM:-0700
TZOFFSETTO:-0800
TZNAME:PST
DTSTART:20191103T090000
END:STANDARD
END:VTIMEZONE
BEGIN:VEVENT
DTSTART;TZID=America/New_York:20200122T130000
DTEND;TZID=America/New_York:20200122T140000
DTSTAMP:20260425T200451
CREATED:20200120T155349Z
LAST-MODIFIED:20200120T155349Z
UID:2599-1579698000-1579701600@travelwebinars.com
SUMMARY:ARGENTINA FOR ALL SEASONS
DESCRIPTION:Click to Register\nBrought to you by Travel Research Online. \nWITH AEROLINEAS ARGENTINAS AND G.T. TOURS \nLearn about Aerolineas Argentinas\, the largest airline in South America. AR offers convenient connections from 37 domestic destinations in Argentina and 22 International destinations\,  including non-stop flights from New York’s JFK and Miami International Airport\, seasonal flights from Orlando\, and from Atlanta\, code share flights with Delta Airlines.  \nAs a member of SkyTeam since 2012\, Aerolineas Argentinas offers many possibilities to be connected around the world and redeem miles on any SkyTeam member airline.  Once again\, Aerolineas Argentinas received the 2019 TRAVELLERS CHOICE AWARD from TRIPADVISOR as “Best Major Airline Latin America.” \nOn this occasion\, AEROLINEAS ARGENTINAS has invited G. T. TOURS to share information about beautiful destinations in Argentina\, and you’ll learn much about creating an unforgettable experience for your clients. \nAbout G.T. Tours: We have been specializing for over the last 28 years in designing and operating distinctive\, innovative and unique nature\, adventure and cultural oriented luxury travel experiences for individuals\, families or small groups to South America.   \nFor Argentina we have joined marketing efforts to promote and sell Argentina and hence\, we would like that for 2020 and beyond you consider us as your professional tour operator and partner in travel for all of your air\, land services and tour needs to destination Argentina.  Our sales support to you without any doubt will be unparalleled from your first contact with us until your clients return home.
URL:https://travelwebinars.com/event/argentina-for-all-seasons/
CATEGORIES:Aerolineas Argentinas,Audience,South America,Travel Agents
ATTACH;FMTTYPE=image/jpeg:https://travelwebinars.com/wp-content/uploads/2018/07/tro-aerolinas.jpg
END:VEVENT
BEGIN:VEVENT
DTSTART;TZID=America/New_York:20191113T110000
DTEND;TZID=America/New_York:20191113T120000
DTSTAMP:20260425T200451
CREATED:20191110T150824Z
LAST-MODIFIED:20191110T150824Z
UID:2519-1573642800-1573646400@travelwebinars.com
SUMMARY:Iceland Bespoke Luxury – Nine Worlds
DESCRIPTION:Click to Register \nDiscover what we have to offer. The core of Nine Worlds is the tailor-made experience in Iceland & Greenland we offer our clients\, completely customized luxury with personal services available twenty four hours a day. Your wish is our command. \nBuilt on a solid foundation since 1937\, we will be showing the select few a myriad of worlds for years to come.
URL:https://travelwebinars.com/event/iceland-bespoke-luxury-nine-worlds/
CATEGORIES:Inkaterra,South America,Travel Agents
ATTACH;FMTTYPE=image/jpeg:https://travelwebinars.com/wp-content/uploads/2019/11/NineWorlds-Logo-300px.jpg
END:VEVENT
BEGIN:VEVENT
DTSTART;TZID=America/New_York:20191106T130000
DTEND;TZID=America/New_York:20191106T140000
DTSTAMP:20260425T200451
CREATED:20191101T005929Z
LAST-MODIFIED:20191101T005930Z
UID:2507-1573045200-1573048800@travelwebinars.com
SUMMARY:DISCOVER A DIFFERENT ARGENTINA
DESCRIPTION:Click to Register\nBrought to you by Travel Research Online. \nArgentina is diversity in nature\, adventure and culture.   There are only a few places in the world where you can find mountains\, seacoast\, deserts\, volcanoes – all in one country – and AEROLINEAS ARGENTINAS  can take you there.  \n– We offer excellent service on board.\n– Flights from Miami\, New York\, and Atlanta (DL codeshare flights)\n– Seasonal flight from Orlando to Buenos Aires (From December through March.)\n– Great connectivity to the 37 domestic destinations in Argentina from our three hubs: Ezeiza (EZE)\, Aeroparque (AEP) and Cordoba (COR.) \nNow\, you already know about Argentina’s famous spots:  Buenos Aires\, the big glaciers in the South\, Iguazu Falls in the North\, but this time\, INPROTUR  (The Argentinian Tourist Office\,  will take you to some beautiful places\, that you’ll be glad to discover and will  be able to offer  to your clients…
URL:https://travelwebinars.com/event/discover-a-different-argentina/
CATEGORIES:Aerolineas Argentinas,Audience,South America,Travel Agents
ATTACH;FMTTYPE=image/jpeg:https://travelwebinars.com/wp-content/uploads/2018/07/tro-aerolinas.jpg
END:VEVENT
BEGIN:VEVENT
DTSTART;TZID=America/New_York:20191030T150000
DTEND;TZID=America/New_York:20191030T160000
DTSTAMP:20260425T200451
CREATED:20191008T201317Z
LAST-MODIFIED:20191008T201317Z
UID:2471-1572447600-1572451200@travelwebinars.com
SUMMARY:INKATERRA - Wellness & Luxury
DESCRIPTION:Click to Register \nJoin Caroline Pando and Judy Hurst to learn about INKATERRA’s Wellness programs in four of its luxury properties. \nDuring this webinar\, you will learn about each unique experience and all the treatments Inkaterra offers in four of its spa’s collection \n\nENA Spa\nUNU Spa\nMAYU Spa\nYACU Spa\n\nCommitted to providing the sophisticated traveler with a luxurious\, gracious and authentic exposure to Peru\, Inkaterra’s mission is to conserve the country’s natural and cultural heritage\, protect resources and endangered environment and to sustain and enrich Peru’s rural communities. \nCan’t make it? Register anyway! All registrants will get access to watch the webinar replay on demand at your own convenience.
URL:https://travelwebinars.com/event/inkaterra-wellness-luxury/
CATEGORIES:Inkaterra,South America,Travel Agents
ATTACH;FMTTYPE=image/jpeg:https://travelwebinars.com/wp-content/uploads/2019/01/Inkaterra-logo.jpg
END:VEVENT
BEGIN:VEVENT
DTSTART;TZID=America/New_York:20190910T130000
DTEND;TZID=America/New_York:20190910T140000
DTSTAMP:20260425T200451
CREATED:20190827T205623Z
LAST-MODIFIED:20190827T205623Z
UID:2401-1568120400-1568124000@travelwebinars.com
SUMMARY:Aerolineas Argentinas - Destination Bariloche (presented by INPROTUR)
DESCRIPTION:Click to Register\nBrought to you by Travel Research Online. \nSan Carlos de Bariloche  (commonly known as Bariloche)\, is a town in the Argentina’s Patagonia region.   Bariloche is an all-season destination for all travelers\, offering great skiing during the winter months as well trekking\, climbing\, etc. in the summer. \nThis time\, Aerolineas Argentinas\, together with INPROTUR  (Argentinian tourist office) will show you this beautiful destination\, which your clients will never forget .\nAerolineas Argentinas offers daily flights to Bariloche from both airports in Buenos Aires.   We also service 36 additional cities within Argentina\, making our airline the best to get to know Argentina.  \n•	Daily flights from Miami and New York\n•	Best connections from our three hubs\, Ezeiza (EZE)\, Aeroparque (AEP) and Cordoba (COR) to 37 domestic destinations within Argentina\n•	Passengers can redeem miles on delta airlines or any of the 20 Skyteam alliance members. \nPlease join us to learn more about Aerolineas Argentinas and this wonderful destination.
URL:https://travelwebinars.com/event/aerolineas-argentinas-destination-bariloche-presented-by-inprotur/
CATEGORIES:Aerolineas Argentinas,Audience,South America,Travel Agents
ATTACH;FMTTYPE=image/jpeg:https://travelwebinars.com/wp-content/uploads/2018/07/tro-aerolinas.jpg
END:VEVENT
BEGIN:VEVENT
DTSTART;TZID=America/New_York:20190710T130000
DTEND;TZID=America/New_York:20190710T140000
DTSTAMP:20260425T200451
CREATED:20190704T145321Z
LAST-MODIFIED:20190704T145321Z
UID:2335-1562763600-1562767200@travelwebinars.com
SUMMARY:Discover Buenos Aires and LGBT destinations in Argentina flying with Aerolineas Argentinas
DESCRIPTION:Click to Register\nBrought to you by Travel Research Online. \nArgentina is widely regarded as one of the leading countries in embracing and catering to LGBT travelers. This growing market provides unique opportunities for you to expand your business. We invite you to join us to learn more. \nArgentina is maximum diversity in nature\, adventure and culture. There are only a few places in the world where you can find glaciers\, deserts\, mountains\, jungle\, seacoast and volcanoes all in one country. \nAerolineas Argentinas is the best way to Visit Argentina\, more connections\, more options and excellent service on board will make this experience memorable for your clients. \n\nDaily flights from Miami and New York.\nPassengers can redeem miles on Delta Airlines or on any of the 20 members of the Sky Team alliance.\nBest connections from our three hubs: Ezeiza (EZE)\, Aeroparque (AEP)\, and Cordoba (COR) to the 37 domestic destinations within Argentina.\n\nThis time together with Aerolineas Argentinas\, will be Inprotur (Argentinian Tourist office)\, and Argentina Gay and Lesbian Chamber of Commerce to talk about Buenos Aires and more.
URL:https://travelwebinars.com/event/discover-buenos-aires-and-lgbt-destinations-in-argentina-flying-with-aerolineas-argentinas/
CATEGORIES:Aerolineas Argentinas,Audience,South America,Travel Agents
ATTACH;FMTTYPE=image/jpeg:https://travelwebinars.com/wp-content/uploads/2018/07/tro-aerolinas.jpg
END:VEVENT
BEGIN:VEVENT
DTSTART;TZID=America/New_York:20190523T150000
DTEND;TZID=America/New_York:20190523T160000
DTSTAMP:20260425T200451
CREATED:20190416T191122Z
LAST-MODIFIED:20190430T175332Z
UID:2143-1558623600-1558627200@travelwebinars.com
SUMMARY:COSMOPOLITAN BUENOS AIRES & ARGENTINA'S PATAGONIA WITH AEROLINEAS ARGENTINAS AND BORELLO TRAVEL & TOURS
DESCRIPTION:Click to Register\nBrought to you by Travel Research Online. \nThe largest airline in South America\, AR offers convenient connections to/from 37 domestic destinations in Argentina and 22 International destinations\, including our daily non-stop flights from New York’s JFK and MIAMI\, as well as code share flights from ATL with Delta Airlines.   We’re proud to be the recipients\, once again\, of the 2019 Travellers Choice Awards by TripAdvisor for\n“Best Major Airline Latin America.”  \nAs members of the SkyTeam Global Airline Alliance since 2012\, we offer your customers access to an extensive global network and passengers can earn and redeem Frequent Flyer Miles throughout the SkyTeam network.   \nThis time\, AEROLINEAS ARGENTINAS has invited BORELLO TRAVEL & TOURS\, to expand your knowledge on different and beautiful destinations\, such as Buenos Aires\, Bariloche\, Ushuaia\, and Antarctica.  You’ll learn everything you need to know to create an unforgettable experience for your customers.  \nPlease join us on May 1st – don’t miss it!
URL:https://travelwebinars.com/event/cosmopolitan-buenos-aires-argentinas-patagonia-with-aerolineas-argentinas-and-borello-travel-tours/
CATEGORIES:Aerolineas Argentinas,Audience,South America,Travel Agents
ATTACH;FMTTYPE=image/jpeg:https://travelwebinars.com/wp-content/uploads/2018/07/tro-aerolinas.jpg
END:VEVENT
BEGIN:VEVENT
DTSTART;TZID=America/New_York:20190228T150000
DTEND;TZID=America/New_York:20190228T160000
DTSTAMP:20260425T200451
CREATED:20190213T203150Z
LAST-MODIFIED:20190213T203150Z
UID:1428-1551366000-1551369600@travelwebinars.com
SUMMARY:Destination Argentina
DESCRIPTION:Click to Register\nBrought to you by Travel Research Online. \nThrough Aerolineas Argentinas & National Institute of Tourism\, INPROTUR. \nThere are many reasons why you should sell Argentina with Aerolineas Argentinas.\n–	Our fares are the most competitive in the market.\n–	We have 2 daily flights from Miami and 1 daily flight from New York seven days a week.\n–	Your customers can redeem miles on Delta Airlines or on any of the 20 members of the Sky Team alliance.\n–	We are recognized for on-time performance.\n–	Best connections from our three hubs:  Ezeiza (EZE)\, Aeroparque (AEP)\, and Cordoba (COR).\n–	to the 37 domestic destinations within Argentina. \nTravel with Aerolineas Argentinas and you will discover a magnificent country because: Argentina offers maximum diversity; nature\, adventure\, and culture. \nYou will find glaciers\, deserts\, mountains\, sea coast\, volcanos\, and waterfalls all in one country.\n–	Argentina is known for one of the most famous wine regions in the world: Mendoza.\n–	Argentina is the house of the tango (musical expression and sensual dance)\n–	Argentina’s cuisine is universally known by the quality of its red meat known as “Asado”
URL:https://travelwebinars.com/event/destination-argentina/
CATEGORIES:Aerolineas Argentinas,Audience,South America,Travel Agents
ATTACH;FMTTYPE=image/jpeg:https://travelwebinars.com/wp-content/uploads/2018/07/tro-aerolinas.jpg
END:VEVENT
BEGIN:VEVENT
DTSTART;TZID=America/New_York:20190206T130000
DTEND;TZID=America/New_York:20190206T140000
DTSTAMP:20260425T200451
CREATED:20190118T013526Z
LAST-MODIFIED:20190129T174441Z
UID:1314-1549458000-1549461600@travelwebinars.com
SUMMARY:INKATERRA - Authentic Cusco
DESCRIPTION:Click to Register \nJoin Caroline Pando and Judy Hurst to learn about INKATERRA’s Cusco properties and the services\, excursions and experiences that await your clients. \nDuring this webinar\, you will learn about the award-winning experiences available when your client stay at: \n\nInkaterra Machu Picchu Pueblo Hotel\nInkaterra Hacienda Urubamba\nInkaterra La Casona\n\nCommitted to providing the sophisticated traveler with a luxurious\, gracious and authentic exposure to Peru\, Inkaterra’s mission is to conserve the country’s natural and cultural heritage\, protect resources and endangered environment and to sustain and enrich Peru’s rural communities. \nCan’t make it? Register anyway! All registrants will get access to watch the webinar replay on demand at your own convenience.
URL:https://travelwebinars.com/event/inkaterra-authentic-cusco/
CATEGORIES:Inkaterra,South America,Travel Agents
ATTACH;FMTTYPE=image/jpeg:https://travelwebinars.com/wp-content/uploads/2019/01/Inkaterra-logo.jpg
END:VEVENT
BEGIN:VEVENT
DTSTART;TZID=America/New_York:20181024T130000
DTEND;TZID=America/New_York:20181024T140000
DTSTAMP:20260425T200451
CREATED:20181016T135421Z
LAST-MODIFIED:20181016T135641Z
UID:1193-1540386000-1540389600@travelwebinars.com
SUMMARY:ARGENTINA FOOD WINE COUNTRYSIDE
DESCRIPTION:Click to Register\nBrought to you by Travel Research Online. \nHost by: Mercedes Bassi “Wine & Gastronomy” coordinator and Ariel Cohen “ National Institute of Tourism Promotion\, and Aerolineas Argentinas. \nJoin us and learn about the many reasons why you should sell  ARGENTINA\n•	ARGENTINA is one of the best travel values in the world.\n•	Argentina gives you a 21% VAT refund on accommodations.\n•	Argentina offers maximum diversity in nature\, adventure and culture where you find glaciers\, deserts\, mountains\, jungle\, sea coast and volcanoes all in one country.\n•	Argentina is known for one of the most famous wine regions in the world.\n•	Argentina is the house of the Tango – musical expression and sensual dance.\n•	Argentine cuisine is universally known by the quality of its red meat – Asado. \nAnd why you should use  AEROLINEAS ARGENTINAS when you sell Argentina\n•	The best price in Business and Economy class for your customers.\n•	Flying with Aerolineas Argentinas your customers can redeem miles on Delta or on 20 world class SkyTeam member airlines.\n•	Special commission to the Travel Agents (Up Front and Back End).\n•	Special Sales Support Team to assist you at any time.\n•	2 daily flights from Miami\, 1 daily flight from New York and 1 daily flight from Atlanta (codeshare with Delta Airlines).\n•	Special fares from many cities in the Unites States to the 37 domestic destinations within Argentina\, through the Aerolineas Argentinas-Delta partnership.\n•	Argentinian culture and flavor on-board.\n•	Recognized on-time performance.
URL:https://travelwebinars.com/event/argentina-food-wine-countryside/
CATEGORIES:Aerolineas Argentinas,Audience,South America,Travel Agents
ATTACH;FMTTYPE=image/jpeg:https://travelwebinars.com/wp-content/uploads/2018/07/tro-aerolinas.jpg
END:VEVENT
BEGIN:VEVENT
DTSTART;TZID=America/Los_Angeles:20180730T130000
DTEND;TZID=America/Los_Angeles:20180730T140000
DTSTAMP:20260425T200451
CREATED:20180713T153054Z
LAST-MODIFIED:20180713T153054Z
UID:1064-1532955600-1532959200@travelwebinars.com
SUMMARY:DESTINATION: ARGENTINA With Aerolineas Argentinas\, Inprotur and Delta Airlines
DESCRIPTION:Click to Register\nBrought to you by Travel Research Online. \nThere are many reasons why you should sell Argentina with Aerolineas Argentinas:\n– Our fares are the most competitive in the market.\n– We have 2 daily flights from Miami\, and 1 daily flight from New York seven days a week.\n– Your passengers can redeem miles on Delta Airlines or on any of the 20 members of the Sky Team Alliance.\n– We are recognized for on-time performance.\n– Best connections  from our three hubs: Ezeiza (EZE)\, Aeroparque (AEP)\, and Cordoba (COR) to the 37 domestic destinations within Argentina. \nTravel with Aerolineas Argentinas and you will discover a magnificent country because:\n– Argentina offers maximum diversity\, nature\, adventure and culture.\n– You will find glaciers\, deserts\, mountains\, sea coast\, volcanos and waterfalls – all in one country.\n– Argentina’s cuisine: beyond a cultural blend of Spanish and Italian influences\, nothing matches the national identity as a good “asado” – (grilled meat.) As for dessert: “dulce de leche” is a must! \nWe hope you will enjoy this Webinar which will help you to get to know and sell Argentina with Aerolineas Argentinas\, our National Institute of Tourism (INPROTUR)\, and our Sky Team partner – Delta Airlines.
URL:https://travelwebinars.com/event/destination-argentina-with-aerolineas-argentinas-inprotur-and-delta-airlines/
CATEGORIES:Aerolineas Argentinas,Audience,South America,Travel Agents
ATTACH;FMTTYPE=image/jpeg:https://travelwebinars.com/wp-content/uploads/2018/07/tro-aerolinas.jpg
END:VEVENT
BEGIN:VEVENT
DTSTART;TZID=America/Los_Angeles:20180517T150000
DTEND;TZID=America/Los_Angeles:20180517T160000
DTSTAMP:20260425T200451
CREATED:20180507T193751Z
LAST-MODIFIED:20180507T193751Z
UID:943-1526569200-1526572800@travelwebinars.com
SUMMARY:Argentina and Beyond with Aerolineas Argentinas and Delta
DESCRIPTION:Click to Register\nBrought to you by Travel Research Online. \nAEROLINEAS ARGENTINAS\nFounded in 1950\, Aerolineas Argentinas is currently a major airline company in South America\, with 84 aircraft/average 7 years\, providing service to 12.980.000 million passengers in 2017\, with over 300 departures daily. \nWithin the bustling cosmopolitan capital city of Buenos Aires\, Aerolineas Argentinas has its base of operations at both the Jorge Newbery Aeroparque Airport as well as the Ezeiza International Airport. \nFrom there\, Aerolineas Argentinas services 37 cities throughout Argentina; together with Austral Airlines\, Aerolineas Argentinas offers more domestic flight options than any other airline in Argentina. Also featuring international flights\, the company provides service to 20 destinations. It is the airline that serves more destinations in the Mercosur Market and the third largest carrier in South America. \nOffering irresistible fares\, passage on a completely renovated fleet\, access to 14 lounges\, and its own frequent flyer program\, Aerolineas Argentinas provides full service to highly sought after travel destinations including Bariloche\, Cordoba\, El Calafate\, Rio de Janeiro\, and San Pablo. As a member of the SkyTeam Alliance since 2012\, the company has a proven track record boasting a seamless travel experience\, with 60 IET agreements and 10 codeshare agreements. \nDELTA\nWhat started as a humble\, little aerial crop dusting operation called Huff Daland Dusters in 1924 has now grown into one of the world’s largest global airlines\, helping more than 160 million travelers get to the places they want to go to each year. Delta Air Lines\, a leader in domestic and international travel\, offers airline tickets & flights to over 300 destinations in 60 countries. Our commitment to excellent operation and reliability earned us Flight Global’s 2017 On-Time Performance Service Award recognizing the highly consistent and prompt transport of your passengers.
URL:https://travelwebinars.com/event/argentina-and-beyond-with-aerolineas-argentinas-and-delta/
CATEGORIES:Aerolineas Argentinas,Audience,South America,Travel Agents
ATTACH;FMTTYPE=image/jpeg:https://travelwebinars.com/wp-content/uploads/2018/05/tro-aerolinas-delta.jpg
END:VEVENT
BEGIN:VEVENT
DTSTART;TZID=America/Los_Angeles:20170824T130000
DTEND;TZID=America/Los_Angeles:20170824T140000
DTSTAMP:20260425T200451
CREATED:20170814T192417Z
LAST-MODIFIED:20170814T192417Z
UID:526-1503579600-1503583200@travelwebinars.com
SUMMARY:It Takes Two to Tango!
DESCRIPTION:Click to Register\nBrought to you by Travel Research Online. \nDO YOU KNOW HOW TO SELL ARGENTINA? WE WILL SHOW YOU HOW … WITH AEROLINEAS ARGENTINAS \nWhy AEROLINEAS ARGENTINAS when you sell Argentina\n– The best price in Business and Economy class for your customers.\n– Flying with Aerolineas Argentinas your customers can redeem miles on Delta or on 20 world class SkyTeam member airlines.\n– Special commission to the Travel Agents (Up Front and Back End).\n– Special Sales Support Team to assist you at any time.\n– 2 daily flights from Miami\, 1 daily flight from New York and 1 daily flight from Atlanta (codeshare with Delta Airlines).\n– Special fares from many cities in the Unites States to the 37 domestic destinations within Argentina\, through the Aerolineas Argentinas-Delta partnership.\n– Argentinian culture and flavor on-board.\n– Recognized on-time performance. \nThere are many reasons why you should sell ARGENTINA\n– Argentina is cheap again. ARGENTINA is one of the best travel values in the world.\n– Argentina gives you a 21% VAT refund on accommodations.\n– Argentina offers maximum diversity in nature\, adventure and culture where you find glaciers\, deserts\, mountains\, jungle\, sea coast and volcanoes all in one country.\n– Argentina is known for one of the most famous wine regions in the world.\n– Argentina is the house of the Tango – musical expression and sensual dance.\n– Argentine cuisine is universally known by the quality of its red meat – Asado.
URL:https://travelwebinars.com/event/takes-two-tango/
CATEGORIES:Aerolineas Argentinas,Audience,South America,Travel Agents
ATTACH;FMTTYPE=image/jpeg:https://travelwebinars.com/wp-content/uploads/2017/03/tro-aerolinas-tw1.jpg
END:VEVENT
BEGIN:VEVENT
DTSTART;TZID=America/Los_Angeles:20170627T150000
DTEND;TZID=America/Los_Angeles:20170627T160000
DTSTAMP:20260425T200451
CREATED:20170613T224325Z
LAST-MODIFIED:20170623T154624Z
UID:430-1498575600-1498579200@travelwebinars.com
SUMMARY:How to Sell Argentina with Aerolineas Argentinas
DESCRIPTION:Click to Register\nBrought to you by Travel Research Online.  This webinar is to inform agents how to sell Aerolineas Argentinas and its domestic destinations.  \nThere are plenty of reasons to travel to Argentina. As the most populous country in South America and largest Spanish-speaking country in the world\, Argentina has distinct and beautiful geography\, interesting history and culture\, thriving nightlife\, and unique local cuisine. It’s no wonder why  Argentina attracts thousands of visitors every year. Here are a few reasons why tourists can’t get enough of Argentina\, and why you might want to plan a visit soon.  \nA country that always takes an opportunity to celebrate\, Argentina has many different kinds of festivals. Buenos Aires is a host to festivals throughout the year including the Buenos Aires International Festival of Independent Film (BAFICI); Fashion Buenos Aires which celebrates fashion in a week-long event twice a year; La Rural\, the nation’s two-week farm fair and gaucho festival; and a gay pride parade. There are festivals celebrating art\, music\, and the tango as well. JuJuy celebrates the “Semana de Jujuy” when the usually quiet city comes alive for a week of partying to celebrate its founding. In Villa General Belgrano (near Córdoba) Oktoberfest is celebrated during the first two weeks of October with an enormous beer festival that celebrates German culture… and Aerolineas Argentinas will take you there.  \nWe have excellent connections to all Argentina and our service on board will make this experience more Memorable for your clients.  \nWe look forward to your participation in our webinar.
URL:https://travelwebinars.com/event/tro-aerolineas-argentinas-june2017/
CATEGORIES:Aerolineas Argentinas,Audience,South America,Travel Agents
ATTACH;FMTTYPE=image/jpeg:https://travelwebinars.com/wp-content/uploads/2017/03/tro-aerolinas-tw1.jpg
END:VEVENT
END:VCALENDAR