BEGIN:VCALENDAR
VERSION:2.0
PRODID:-//Travel Webinars - ECPv6.15.20//NONSGML v1.0//EN
CALSCALE:GREGORIAN
METHOD:PUBLISH
X-ORIGINAL-URL:https://travelwebinars.com
X-WR-CALDESC:Events for Travel Webinars
REFRESH-INTERVAL;VALUE=DURATION:PT1H
X-Robots-Tag:noindex
X-PUBLISHED-TTL:PT1H
BEGIN:VTIMEZONE
TZID:America/New_York
BEGIN:DAYLIGHT
TZOFFSETFROM:-0500
TZOFFSETTO:-0400
TZNAME:EDT
DTSTART:20240310T070000
END:DAYLIGHT
BEGIN:STANDARD
TZOFFSETFROM:-0400
TZOFFSETTO:-0500
TZNAME:EST
DTSTART:20241103T060000
END:STANDARD
BEGIN:DAYLIGHT
TZOFFSETFROM:-0500
TZOFFSETTO:-0400
TZNAME:EDT
DTSTART:20250309T070000
END:DAYLIGHT
BEGIN:STANDARD
TZOFFSETFROM:-0400
TZOFFSETTO:-0500
TZNAME:EST
DTSTART:20251102T060000
END:STANDARD
BEGIN:DAYLIGHT
TZOFFSETFROM:-0500
TZOFFSETTO:-0400
TZNAME:EDT
DTSTART:20260308T070000
END:DAYLIGHT
BEGIN:STANDARD
TZOFFSETFROM:-0400
TZOFFSETTO:-0500
TZNAME:EST
DTSTART:20261101T060000
END:STANDARD
END:VTIMEZONE
BEGIN:VEVENT
DTSTART;TZID=America/New_York:20250821T150000
DTEND;TZID=America/New_York:20250821T153000
DTSTAMP:20260421T092438
CREATED:20250815T174436Z
LAST-MODIFIED:20250815T174436Z
UID:5907-1755788400-1755790200@travelwebinars.com
SUMMARY:Ultra-Luxe Journeys to Argentina
DESCRIPTION:Click to Register \nDelight your most discerning travelers with a custom-made journey to Argentina. Join Blue Parallel’s travel experts in a live webinar and explore the country’s most extraordinary possibilities. Together\, you’ll uncover Argentina’s rich history\, awe-inspiring landscapes\, world-class culinary traditions\, and exceptional luxury accommodations across its most captivating regions. \nINSIDER ACCESS\nFrom exclusive polo lessons with professional players and behind-the-scenes tours and tastings at Argentina’s top vineyards\, to private musical performances in spectacular settings\, you’ll learn about the unique insider access experiences you can offer your travelers. \nEPIC OUTDOOR ADVENTURES\nIce-trekking across the majestic Perito Moreno Glacier\, boating among towering icebergs\, kayaking on crystal-clear lakes\, and hiking through the striking Quebrada de Humahuaca are just a few of the exhilarating adventures awaiting your travelers in Argentina. \nPRIVACY\nIndulge in exceptional private experiences far from the crowds\, whether it’s a guided artisanal shopping experience\, a hands-on cooking class with a celebrated chef\, or a visit to the private workshop of an internationally acclaimed silversmith. Every bespoke tour ensures intimacy\, exclusivity\, and unforgettable memories. \nWHITE-GLOVE SERVICE\nHandpicked luxury accommodations\, curated culinary awakenings\, and expert guides who bring each experience to life\, all orchestrated with Blue Parallel’s signature precision and care. From perfectly timed private access to Argentina’s most iconic landmarks to surprise moments your travelers will never forget\, every detail is thoughtfully crafted.
URL:https://travelwebinars.com/event/ultra-luxe-journeys-to-argentina-2/
CATEGORIES:Blue Parallel,Travel Agents
ATTACH;FMTTYPE=image/jpeg:https://travelwebinars.com/wp-content/uploads/2017/04/blue-parallel-logo-2017.jpg
END:VEVENT
END:VCALENDAR