BEGIN:VCALENDAR
VERSION:2.0
PRODID:-//Travel Webinars - ECPv6.15.20//NONSGML v1.0//EN
CALSCALE:GREGORIAN
METHOD:PUBLISH
X-WR-CALNAME:Travel Webinars
X-ORIGINAL-URL:https://travelwebinars.com
X-WR-CALDESC:Events for Travel Webinars
REFRESH-INTERVAL;VALUE=DURATION:PT1H
X-Robots-Tag:noindex
X-PUBLISHED-TTL:PT1H
BEGIN:VTIMEZONE
TZID:America/New_York
BEGIN:DAYLIGHT
TZOFFSETFROM:-0500
TZOFFSETTO:-0400
TZNAME:EDT
DTSTART:20240310T070000
END:DAYLIGHT
BEGIN:STANDARD
TZOFFSETFROM:-0400
TZOFFSETTO:-0500
TZNAME:EST
DTSTART:20241103T060000
END:STANDARD
BEGIN:DAYLIGHT
TZOFFSETFROM:-0500
TZOFFSETTO:-0400
TZNAME:EDT
DTSTART:20250309T070000
END:DAYLIGHT
BEGIN:STANDARD
TZOFFSETFROM:-0400
TZOFFSETTO:-0500
TZNAME:EST
DTSTART:20251102T060000
END:STANDARD
BEGIN:DAYLIGHT
TZOFFSETFROM:-0500
TZOFFSETTO:-0400
TZNAME:EDT
DTSTART:20260308T070000
END:DAYLIGHT
BEGIN:STANDARD
TZOFFSETFROM:-0400
TZOFFSETTO:-0500
TZNAME:EST
DTSTART:20261101T060000
END:STANDARD
END:VTIMEZONE
BEGIN:VEVENT
DTSTART;TZID=America/New_York:20250501T130000
DTEND;TZID=America/New_York:20250501T140000
DTSTAMP:20260425T100127
CREATED:20250417T144010Z
LAST-MODIFIED:20250417T144010Z
UID:5799-1746104400-1746108000@travelwebinars.com
SUMMARY:Back from Kenya with Bush & Beyond - New Activities Galore!
DESCRIPTION:Click to Register \nJoin Jenny\, our North American Sales Representative\, to hear about all the new activities she was able to experience at our Bush and Beyond properties that are ready for your travelers to enjoy! \nDuring our webinar you’ll have the first look at all that’s new: \n\nAdventures at the exclusive use Sarara Wilderness Camp\nSundowner Brew Shed and Home Concoctions at Ol Malo\nE-bikes\, horses\, and the new Wild Spa & Photo Studio at House in the Wild\nLatest residents at Reteti Elephant Sanctuary\nInfinity pool and bbq area (with a new bush baby!) at Emakoko\nSleeping under the stars onboard NaiSabah Dhow\n…and so much more!\n\nThis is the real Africa with safari destinations as varied as the different habitats they occupy\, and as individual as their owners. Come and discover it with Bush and Beyond. \nThere is lots to talk about\, we hope that you’ll join us!
URL:https://travelwebinars.com/event/back-from-kenya-with-bush-beyond-new-activities-galore/
CATEGORIES:Africa,Bush & Beyond,Kenya,Supplier,Travel Agents
ATTACH;FMTTYPE=image/jpeg:https://travelwebinars.com/wp-content/uploads/2017/05/bush-beyond-logo.jpg
END:VEVENT
BEGIN:VEVENT
DTSTART;TZID=America/New_York:20250506T130000
DTEND;TZID=America/New_York:20250506T140000
DTSTAMP:20260425T100127
CREATED:20250417T143614Z
LAST-MODIFIED:20250422T180340Z
UID:5797-1746536400-1746540000@travelwebinars.com
SUMMARY:Deep Dive into what truly sets Paul Gauguin Cruises apart as French Polynesia’s Destination Expert
DESCRIPTION:Click to Register \nYou’re invited to an exclusive webinar hosted by Lisa Gourdine\, Director of Business Development\, PONANT EXPLORATIONS and Paul Gauguin Cruises. Join us for a deeper dive into what truly sets Paul Gauguin Cruises apart as French Polynesia’s Destination Expert. We’ll spotlight current offers and new sales tools\, including the recently launched PEARLS training platform for Travel Advisors and co-branded marketing pages that you can customize and share with your clients. You’ll also learn about the exciting enhancements aboard the m/s Paul Gauguin following its recent multi-million-dollar refurbishment — from upgraded sustainable technologies and refreshed soft furnishings to a reimagined pool deck with shaded cabanas\, eight new connecting staterooms\, and a stylish new look for the popular Le Grill restaurant. \nDon’t miss this opportunity to strengthen your expertise and boost your sales with Paul Gauguin Cruises. \n\nSPECIAL OFFER AND GIVEAWAY!\nOne lucky webinar attendee will win a $100 AMAZON E-CARD \nALL WEBINAR ATTENDEES will receive a\n5% savings on a booking made within 30 days of the webinar
URL:https://travelwebinars.com/event/deep-dive-into-what-truly-sets-paul-gauguin-cruises-apart-as-french-polynesias-destination-expert/
CATEGORIES:Paul Gauguin Cruises,Travel Agents
ATTACH;FMTTYPE=image/jpeg:https://travelwebinars.com/wp-content/uploads/2025/02/PGC-logo-410px.jpg
END:VEVENT
BEGIN:VEVENT
DTSTART;TZID=America/New_York:20250514T110000
DTEND;TZID=America/New_York:20250514T120000
DTSTAMP:20260425T100127
CREATED:20250423T143134Z
LAST-MODIFIED:20250425T003629Z
UID:5805-1747220400-1747224000@travelwebinars.com
SUMMARY:The Treasures of Costa Rica & Panama - Boutique Yachting Expeditions
DESCRIPTION:Click to Register \nImagine a world where exploration is personal\, and destinations remain untouched. Kontiki Expeditions invites you to discover our newest\, intimately scaled itineraries: the Pura Vida Expedition in Costa Rica and the Island Odyssey Expedition in Panama. \nWe invite you to delve into the Pacific’s hidden treasures\, where true expeditionary spirit meets remarkably untouched landscapes. Learn how our intimate adventures aboard the boutique yacht M/Y Kontiki Wayra redefine exploration\, offering a seamless blend of comfort\, sustainability\, and profound connection far removed from traditional travel. \nIf you’re looking to offer your clients thrilling off-the-beaten-path adventures\, incredible wildlife encounters\, and a taste of genuine discovery\, this webinar is your compass. \nFuel their adventurous spirit.
URL:https://travelwebinars.com/event/costa-rica-panama-boutique-yachting-expeditions-2-2/
CATEGORIES:Kontiki Expeditions,South America,Supplier,Travel Agents
ATTACH;FMTTYPE=image/png:https://travelwebinars.com/wp-content/uploads/2023/01/Kontiki-Logo.fw_.png
LOCATION:https://us02web.zoom.us/j/81698842050
END:VEVENT
BEGIN:VEVENT
DTSTART;TZID=America/New_York:20250520T120000
DTEND;TZID=America/New_York:20250520T130000
DTSTAMP:20260425T100127
CREATED:20250512T183425Z
LAST-MODIFIED:20250512T183425Z
UID:5836-1747742400-1747746000@travelwebinars.com
SUMMARY:Essential Peru: Culture\, Nature & Adventure on a Complete Route
DESCRIPTION:Click to Register \nAre you ready to explore Peru through a full cultural and natural immersion? \nJoin Latin Trails for an exclusive webinar and gain the tools to create complete\, immersive Peru itineraries—combining world wonders\, hidden gems\, and unforgettable experiences. \nIn this webinar\, you’ll learn how to: \n\nDesign a well-rounded Peru itinerary that combines cultural cities\, ancient ruins\, and natural wonders\nExplore lesser-known regions rich in archaeology\, tradition\, and scenic beauty\nRecommend immersive urban experiences—food\, art\, and heritage\nInclude top trekking and adventure options with camping opportunities\nCompare Amazon rainforest lodges and river cruises for nature-focused travel\nNavigate domestic flights and logistics to streamline itineraries\n\nPresented by:\nMarcel Perkins\, Managing Director of Latin Trails \nBringing years of expertise in crafting authentic journeys across South America. \nRegister now and elevate your Peru travel knowledge to the next level!
URL:https://travelwebinars.com/event/essential-peru-culture-nature-adventure-on-a-complete-route/
CATEGORIES:Latin Trails,South America,Travel Agents
ATTACH;FMTTYPE=image/jpeg:https://travelwebinars.com/wp-content/uploads/2022/08/LATIN-TRAILS-NEW-LOGO_300px.jpg
END:VEVENT
BEGIN:VEVENT
DTSTART;TZID=America/New_York:20250522T150000
DTEND;TZID=America/New_York:20250522T153000
DTSTAMP:20260425T100127
CREATED:20250508T231729Z
LAST-MODIFIED:20250508T232034Z
UID:5832-1747926000-1747927800@travelwebinars.com
SUMMARY:Ultra-Luxe Journeys to Morocco
DESCRIPTION:Click to Register \nWe invite you to join Blue Parallel’s Morocco experts for a luxury journey through the country’s cultural treasures and fascinating heritage. Together\, we will embark on a sensory journey through Morocco’s natural and cultural highlights\, from the living history of Fes’ ancient medina to the majestic peaks of the High Atlas Mountains\, down through the lush valleys of Berber farmlands and onto the vibrant Red City of Marrakesh. Sign up for this live webinar today. \nINSIDER ACCESS\nDiscover a deeper side of Morocco through Blue Parallel’s insider experiences. From exclusive access to the private home of the late Yves Saint Laurent to refreshments with a Berber family in their home\, your travelers will enjoy authentic moments designed for true cultural immersion. \nPRIVACY\nMorocco’s diverse landscapes offer unmatched opportunities for seclusion. Whether it’s a private desert camp\, a luxury riad with its own private pool\, or a private cooking class\, your guests will explore the country’s wonders away from the crowds. \nEPIC OUTDOOR ADVENTURES\nVenture through Morocco’s most stunning landscapes\, from hiking in the High Atlas Mountains and camel rides across rolling desert dunes\, to biking through the Ouirgane Valley and a nature walk through the Almond Valley \nWHITE-GLOVE SERVICE\nEnhance your travelers’ Moroccan journey with exclusive accommodations\, smooth logistics\, and thoughtful VIP touches. Guests can enjoy private plane and helicopter transfers\, exclusive fully serviced dinners and picnics in spectacular natural settings\, and much more.
URL:https://travelwebinars.com/event/ultra-luxe-journeys-to-morocco/
CATEGORIES:Blue Parallel,Travel Agents
ATTACH;FMTTYPE=image/jpeg:https://travelwebinars.com/wp-content/uploads/2017/04/blue-parallel-logo-2017.jpg
END:VEVENT
END:VCALENDAR