BEGIN:VCALENDAR
VERSION:2.0
PRODID:-//Travel Webinars - ECPv6.15.20//NONSGML v1.0//EN
CALSCALE:GREGORIAN
METHOD:PUBLISH
X-WR-CALNAME:Travel Webinars
X-ORIGINAL-URL:https://travelwebinars.com
X-WR-CALDESC:Events for Travel Webinars
REFRESH-INTERVAL;VALUE=DURATION:PT1H
X-Robots-Tag:noindex
X-PUBLISHED-TTL:PT1H
BEGIN:VTIMEZONE
TZID:America/Los_Angeles
BEGIN:DAYLIGHT
TZOFFSETFROM:-0800
TZOFFSETTO:-0700
TZNAME:PDT
DTSTART:20230312T100000
END:DAYLIGHT
BEGIN:STANDARD
TZOFFSETFROM:-0700
TZOFFSETTO:-0800
TZNAME:PST
DTSTART:20231105T090000
END:STANDARD
BEGIN:DAYLIGHT
TZOFFSETFROM:-0800
TZOFFSETTO:-0700
TZNAME:PDT
DTSTART:20240310T100000
END:DAYLIGHT
BEGIN:STANDARD
TZOFFSETFROM:-0700
TZOFFSETTO:-0800
TZNAME:PST
DTSTART:20241103T090000
END:STANDARD
BEGIN:DAYLIGHT
TZOFFSETFROM:-0800
TZOFFSETTO:-0700
TZNAME:PDT
DTSTART:20250309T100000
END:DAYLIGHT
BEGIN:STANDARD
TZOFFSETFROM:-0700
TZOFFSETTO:-0800
TZNAME:PST
DTSTART:20251102T090000
END:STANDARD
END:VTIMEZONE
BEGIN:VEVENT
DTSTART;TZID=America/Los_Angeles:20241203T130000
DTEND;TZID=America/Los_Angeles:20241203T140000
DTSTAMP:20260425T083749
CREATED:20241106T162230Z
LAST-MODIFIED:20241106T162230Z
UID:5666-1733230800-1733234400@travelwebinars.com
SUMMARY:Latin America + a Special Offer!
DESCRIPTION:Click to Register\nPresented by TravelResearchOnline. \nJoin us for an exciting webinar as we embark on a journey through Latin America\, following in the footsteps of Christopher Columbus to explore the fascinating landscapes and cultures of the “New World.” From the ancient marvels of Peru’s Machu Picchu to the remarkable biodiversity of Ecuador’s Galapagos Islands\, and from the awe-inspiring Iguassu Falls on the Brazil-Argentina border to the vibrant streets of Colombia and Guatemala\, this virtual tour will take you to some of the continent’s most iconic destinations. Discover Argentina’s rich culture\, the natural wonders of Costa Rica\, and the colorful heritage of Panama and Bolivia.  \nThis session will immerse you in the beauty\, history\, and diversity of Latin America\, offering a preview of the countless adventures awaiting you!
URL:https://travelwebinars.com/event/latin-america-a-special-offer/
CATEGORIES:Africa,Association,Travel Agents,Travel Research Online
ATTACH;FMTTYPE=image/jpeg:https://travelwebinars.com/wp-content/uploads/2024/10/2023CHTG-JPG.jpg
END:VEVENT
END:VCALENDAR