BEGIN:VCALENDAR
VERSION:2.0
PRODID:-//Travel Webinars - ECPv6.15.20//NONSGML v1.0//EN
CALSCALE:GREGORIAN
METHOD:PUBLISH
X-ORIGINAL-URL:https://travelwebinars.com
X-WR-CALDESC:Events for Travel Webinars
REFRESH-INTERVAL;VALUE=DURATION:PT1H
X-Robots-Tag:noindex
X-PUBLISHED-TTL:PT1H
BEGIN:VTIMEZONE
TZID:America/Los_Angeles
BEGIN:DAYLIGHT
TZOFFSETFROM:-0800
TZOFFSETTO:-0700
TZNAME:PDT
DTSTART:20240310T100000
END:DAYLIGHT
BEGIN:STANDARD
TZOFFSETFROM:-0700
TZOFFSETTO:-0800
TZNAME:PST
DTSTART:20241103T090000
END:STANDARD
BEGIN:DAYLIGHT
TZOFFSETFROM:-0800
TZOFFSETTO:-0700
TZNAME:PDT
DTSTART:20250309T100000
END:DAYLIGHT
BEGIN:STANDARD
TZOFFSETFROM:-0700
TZOFFSETTO:-0800
TZNAME:PST
DTSTART:20251102T090000
END:STANDARD
BEGIN:DAYLIGHT
TZOFFSETFROM:-0800
TZOFFSETTO:-0700
TZNAME:PDT
DTSTART:20260308T100000
END:DAYLIGHT
BEGIN:STANDARD
TZOFFSETFROM:-0700
TZOFFSETTO:-0800
TZNAME:PST
DTSTART:20261101T090000
END:STANDARD
END:VTIMEZONE
BEGIN:VEVENT
DTSTART;TZID=America/Los_Angeles:20250924T130000
DTEND;TZID=America/Los_Angeles:20250924T140000
DTSTAMP:20260423T194716
CREATED:20250910T201654Z
LAST-MODIFIED:20250912T220934Z
UID:5931-1758718800-1758722400@travelwebinars.com
SUMMARY:Central Holidays Travel Showcase 2026: Italy\, Egypt\, Group Travel & Beyond (+ $100 Gift Card Per Passenger)
DESCRIPTION:Click to Register\nPresented by TravelResearchOnline. \nJoin us for an exciting preview of our 2026 Escorted Tours and Group Travel Packages! From the timeless beauty of Italy’s guided journeys to the history and wonders of Egypt’s adventures — both featuring guaranteed departures — we’ll showcase the unforgettable experiences your travelers can look forward to. \nPlus\, don’t miss the chance to learn about our exclusive group travel offerings\, perfect for agencies and travelers seeking seamless\, curated itineraries.
URL:https://travelwebinars.com/event/discover-2026-travel-italy-escorted-tours-egypt-adventures-group-travel-100-gift-card-per-passenger/
CATEGORIES:Africa,Association,Travel Agents,Travel Research Online
ATTACH;FMTTYPE=image/jpeg:https://travelwebinars.com/wp-content/uploads/2024/10/2023CHTG-JPG.jpg
END:VEVENT
END:VCALENDAR