BEGIN:VCALENDAR
VERSION:2.0
PRODID:-//Travel Webinars - ECPv6.15.20//NONSGML v1.0//EN
CALSCALE:GREGORIAN
METHOD:PUBLISH
X-ORIGINAL-URL:https://travelwebinars.com
X-WR-CALDESC:Events for Travel Webinars
REFRESH-INTERVAL;VALUE=DURATION:PT1H
X-Robots-Tag:noindex
X-PUBLISHED-TTL:PT1H
BEGIN:VTIMEZONE
TZID:America/Los_Angeles
BEGIN:DAYLIGHT
TZOFFSETFROM:-0800
TZOFFSETTO:-0700
TZNAME:PDT
DTSTART:20220313T100000
END:DAYLIGHT
BEGIN:STANDARD
TZOFFSETFROM:-0700
TZOFFSETTO:-0800
TZNAME:PST
DTSTART:20221106T090000
END:STANDARD
BEGIN:DAYLIGHT
TZOFFSETFROM:-0800
TZOFFSETTO:-0700
TZNAME:PDT
DTSTART:20230312T100000
END:DAYLIGHT
BEGIN:STANDARD
TZOFFSETFROM:-0700
TZOFFSETTO:-0800
TZNAME:PST
DTSTART:20231105T090000
END:STANDARD
BEGIN:DAYLIGHT
TZOFFSETFROM:-0800
TZOFFSETTO:-0700
TZNAME:PDT
DTSTART:20240310T100000
END:DAYLIGHT
BEGIN:STANDARD
TZOFFSETFROM:-0700
TZOFFSETTO:-0800
TZNAME:PST
DTSTART:20241103T090000
END:STANDARD
END:VTIMEZONE
BEGIN:VEVENT
DTSTART;TZID=America/Los_Angeles:20230926T140000
DTEND;TZID=America/Los_Angeles:20230926T150000
DTSTAMP:20260419T174809
CREATED:20230807T175109Z
LAST-MODIFIED:20230905T140247Z
UID:3798-1695736800-1695740400@travelwebinars.com
SUMMARY:Australia\, New Zealand and Fiji with Avanti Destinations
DESCRIPTION:Click to Register\nPresented by TravelResearchOnline. \nAvanti Destinations is embarking on an exciting new chapter with the launch of the picturesque South Pacific region. In this highly interactive webinar\, we’ll be navigating the diverse landscapes of Australia\, New Zealand\, and Fiji\, known for their compelling cultural narratives\, awe-inspiring natural beauty\, and a vast array of experiences waiting to be uncovered.   \nJoin us as we traverse the crystal-blue waters\, golden sandy beaches\, bustling metropolises\, and verdant rainforests that have placed the South Pacific on every traveler’s wish list. We’ll journey through Australia’s lively cities and pristine wildlife reserves\, explore New Zealand’s magnificent landscapes teeming with adventure\, and immerse ourselves in Fiji’s idyllic island life steeped in culture.  \nWith Avanti Destinations’ comprehensive resources at your fingertips\, you’ll be perfectly positioned to simplify your booking process and deliver personalized South Pacific adventures to your clientele.  \nThroughout this webinar\, you’ll gain:  \n• A deep understanding of the South Pacific region’s distinctive allure\, focusing on Australia\, New Zealand\, and Fiji.\n• Knowledge on the ideal travel seasons\, to ensure your clients experience these destinations at their very best.\n• Marketing leverage through insights on why these South Pacific regions are must-visit destinations.\n• In-depth reviews of exceptional accommodation options\, promising comfortable and memorable stays for your clients.\n• Information on top-rated sightseeing tours and exhilarating activities to help craft unforgettable experiences.\n• Suggested itineraries to help customize travel plans for diverse client preferences.\n• Expertise on using Avanti Destinations’ resources to enhance your service offerings\, streamline your booking processes\, and build stronger client relationships. \nWe look forward to welcoming you on this virtual exploration of the South Pacific\, as we join forces to create dream holidays for your clients.
URL:https://travelwebinars.com/event/australia-new-zealand-and-fiji-with-avanti-destinations/
CATEGORIES:Association,Travel Agents,Travel Research Online
ATTACH;FMTTYPE=image/jpeg:https://travelwebinars.com/wp-content/uploads/2022/04/2022Avanti_Logo-tn.jpg
END:VEVENT
END:VCALENDAR