BEGIN:VCALENDAR
VERSION:2.0
PRODID:-//Travel Webinars - ECPv6.15.20//NONSGML v1.0//EN
CALSCALE:GREGORIAN
METHOD:PUBLISH
X-ORIGINAL-URL:https://travelwebinars.com
X-WR-CALDESC:Events for Travel Webinars
REFRESH-INTERVAL;VALUE=DURATION:PT1H
X-Robots-Tag:noindex
X-PUBLISHED-TTL:PT1H
BEGIN:VTIMEZONE
TZID:America/New_York
BEGIN:DAYLIGHT
TZOFFSETFROM:-0500
TZOFFSETTO:-0400
TZNAME:EDT
DTSTART:20220313T070000
END:DAYLIGHT
BEGIN:STANDARD
TZOFFSETFROM:-0400
TZOFFSETTO:-0500
TZNAME:EST
DTSTART:20221106T060000
END:STANDARD
BEGIN:DAYLIGHT
TZOFFSETFROM:-0500
TZOFFSETTO:-0400
TZNAME:EDT
DTSTART:20230312T070000
END:DAYLIGHT
BEGIN:STANDARD
TZOFFSETFROM:-0400
TZOFFSETTO:-0500
TZNAME:EST
DTSTART:20231105T060000
END:STANDARD
BEGIN:DAYLIGHT
TZOFFSETFROM:-0500
TZOFFSETTO:-0400
TZNAME:EDT
DTSTART:20240310T070000
END:DAYLIGHT
BEGIN:STANDARD
TZOFFSETFROM:-0400
TZOFFSETTO:-0500
TZNAME:EST
DTSTART:20241103T060000
END:STANDARD
END:VTIMEZONE
BEGIN:VEVENT
DTSTART;TZID=America/New_York:20230509T130000
DTEND;TZID=America/New_York:20230509T140000
DTSTAMP:20260425T210946
CREATED:20230426T173125Z
LAST-MODIFIED:20230426T173125Z
UID:3709-1683637200-1683640800@travelwebinars.com
SUMMARY:New and Notable Travel Protection for Your Clients
DESCRIPTION:Click to Register\nBrought to you by Travel Research Online. \nIn this webinar\, you will learn about:\n      •	New travel insurance products your clients will love\n      •	How you can earn commission and make sure your clients are protected when they travel\n      •	Why there has never been a better time to partner with Trawick International \nDid you know? 2023 marks the 25th anniversary of Trawick International. That’s 25 years of protecting millions of travelers all over the world. And we are just getting started! \nWhy is this good for you? We have the travel protection you need for your clients\, no matter what kind of trip they are taking\, with 25 years of experience and knowledge to back it up. \nThis year alone\, Trawick International has already launched three new travel insurance plans. From our most customizable plan to date\, to a plan specifically designed for vacation rentals\, to coverage for even your most adventurous clients\, we have you covered. \nIn this webinar\, learn how you can offer your clients the most customizable and comprehensive protection with all the latest from Trawick International – not to mention adding value and commissions to your portfolio.  \nTrawick International has won multiple awards and accolades\, including being named one of the Best Travel Insurance Companies three years in a row by Forbes Advisor and making the list for Best Travel Insurance Plans on US News & World Report\, Insider\, USA Today\, MarketWatch\, and more.  \nTrawick International is a full-service travel insurance administrator and claims provider specializing in protecting travelers worldwide. We can help you offer your clients a wide variety of quality insurance coverage at industry-leading prices.
URL:https://travelwebinars.com/event/new-and-notable-travel-protection-for-your-clients/
CATEGORIES:Audience,Travel Agents,Travel Research Online
ATTACH;FMTTYPE=image/jpeg:https://travelwebinars.com/wp-content/uploads/2023/04/tro-trawick.jpg
END:VEVENT
END:VCALENDAR