BEGIN:VCALENDAR
VERSION:2.0
PRODID:-//Travel Webinars - ECPv6.15.20//NONSGML v1.0//EN
CALSCALE:GREGORIAN
METHOD:PUBLISH
X-WR-CALNAME:Travel Webinars
X-ORIGINAL-URL:https://travelwebinars.com
X-WR-CALDESC:Events for Travel Webinars
REFRESH-INTERVAL;VALUE=DURATION:PT1H
X-Robots-Tag:noindex
X-PUBLISHED-TTL:PT1H
BEGIN:VTIMEZONE
TZID:America/New_York
BEGIN:DAYLIGHT
TZOFFSETFROM:-0500
TZOFFSETTO:-0400
TZNAME:EDT
DTSTART:20230312T070000
END:DAYLIGHT
BEGIN:STANDARD
TZOFFSETFROM:-0400
TZOFFSETTO:-0500
TZNAME:EST
DTSTART:20231105T060000
END:STANDARD
BEGIN:DAYLIGHT
TZOFFSETFROM:-0500
TZOFFSETTO:-0400
TZNAME:EDT
DTSTART:20240310T070000
END:DAYLIGHT
BEGIN:STANDARD
TZOFFSETFROM:-0400
TZOFFSETTO:-0500
TZNAME:EST
DTSTART:20241103T060000
END:STANDARD
BEGIN:DAYLIGHT
TZOFFSETFROM:-0500
TZOFFSETTO:-0400
TZNAME:EDT
DTSTART:20250309T070000
END:DAYLIGHT
BEGIN:STANDARD
TZOFFSETFROM:-0400
TZOFFSETTO:-0500
TZNAME:EST
DTSTART:20251102T060000
END:STANDARD
END:VTIMEZONE
BEGIN:VEVENT
DTSTART;TZID=America/New_York:20240808T140000
DTEND;TZID=America/New_York:20240808T150000
DTSTAMP:20260419T202452
CREATED:20240717T192124Z
LAST-MODIFIED:20240717T192124Z
UID:5191-1723125600-1723129200@travelwebinars.com
SUMMARY:CroisiEurope – The best kept secret in river cruising
DESCRIPTION:Click to Register \nPresented by Sandrah Gurash\, Marketing Director \nLearn everything you need to know to sell Europe’s largest river cruise line.  Based in France and independently family owned and operated since 1976\, CroisiEurope has pioneered river cruising on some of the most beautiful waterways in Europe and beyond.  Their fleet of 50 ships includes everything from hotel canal barges to classic styled ocean liners\, paddlewheel river boats and luxury small ship safari cruising.  CroisiEurope welcomes nearly 200\,000 passengers annually on 170 itineraries in 37 countries.  Offering unique and exclusive ships and itineraries\, refined French cuisine and a relaxed onboard atmosphere\, CroisiEurope is the ideal option for those looking for a more immersive European vacation experience.
URL:https://travelwebinars.com/event/croisieurope-the-best-kept-secret-in-river-cruising/
CATEGORIES:Bush & Beyond,CroisiEurope Cruises,River Cruising,Supplier,Travel Agents,Travel Research Online
ATTACH;FMTTYPE=image/jpeg:https://travelwebinars.com/wp-content/uploads/2023/09/CroisiEurope-logo-sm.jpg
END:VEVENT
END:VCALENDAR