BEGIN:VCALENDAR
VERSION:2.0
PRODID:-//Travel Webinars - ECPv6.15.20//NONSGML v1.0//EN
CALSCALE:GREGORIAN
METHOD:PUBLISH
X-WR-CALNAME:Travel Webinars
X-ORIGINAL-URL:https://travelwebinars.com
X-WR-CALDESC:Events for Travel Webinars
REFRESH-INTERVAL;VALUE=DURATION:PT1H
X-Robots-Tag:noindex
X-PUBLISHED-TTL:PT1H
BEGIN:VTIMEZONE
TZID:America/New_York
BEGIN:DAYLIGHT
TZOFFSETFROM:-0500
TZOFFSETTO:-0400
TZNAME:EDT
DTSTART:20240310T070000
END:DAYLIGHT
BEGIN:STANDARD
TZOFFSETFROM:-0400
TZOFFSETTO:-0500
TZNAME:EST
DTSTART:20241103T060000
END:STANDARD
BEGIN:DAYLIGHT
TZOFFSETFROM:-0500
TZOFFSETTO:-0400
TZNAME:EDT
DTSTART:20250309T070000
END:DAYLIGHT
BEGIN:STANDARD
TZOFFSETFROM:-0400
TZOFFSETTO:-0500
TZNAME:EST
DTSTART:20251102T060000
END:STANDARD
BEGIN:DAYLIGHT
TZOFFSETFROM:-0500
TZOFFSETTO:-0400
TZNAME:EDT
DTSTART:20260308T070000
END:DAYLIGHT
BEGIN:STANDARD
TZOFFSETFROM:-0400
TZOFFSETTO:-0500
TZNAME:EST
DTSTART:20261101T060000
END:STANDARD
END:VTIMEZONE
BEGIN:VEVENT
DTSTART;TZID=America/New_York:20251014T120000
DTEND;TZID=America/New_York:20251014T123000
DTSTAMP:20260421T072610
CREATED:20250920T232314Z
LAST-MODIFIED:20251001T170739Z
UID:5940-1760443200-1760445000@travelwebinars.com
SUMMARY:Marvelous Mexico: Monarchs\, Canyons\, and Cultural Immersion
DESCRIPTION:Click to Register \nJoin us and TAP Tour Operator Partner Eric Rosenberg from Sun Tours & Pleasurebent Tours to discover an unforgettable lineup of Mexican adventures your clients will treasure. Witness the breathtaking migration of millions of Monarch butterflies in the mountains of central Mexico\, journey deep into the stunning Copper Canyon by train while learning about the Tarahumara culture\, and immerse yourself in the rich traditions and vibrant celebrations of Día de los Muertos in colorful Oaxaca. These expertly curated tours highlight the natural wonders and cultural depth of Mexico\, offering meaningful travel experiences your clients won’t soon forget.
URL:https://travelwebinars.com/event/marvelous-mexico-monarchs-canyons-and-cultural-immersion/
CATEGORIES:TAP,Travel Agents
ATTACH;FMTTYPE=image/jpeg:https://travelwebinars.com/wp-content/uploads/2024/10/tap.jpg
END:VEVENT
END:VCALENDAR