BEGIN:VCALENDAR
VERSION:2.0
PRODID:-//Travel Webinars - ECPv6.15.20//NONSGML v1.0//EN
CALSCALE:GREGORIAN
METHOD:PUBLISH
X-ORIGINAL-URL:https://travelwebinars.com
X-WR-CALDESC:Events for Travel Webinars
REFRESH-INTERVAL;VALUE=DURATION:PT1H
X-Robots-Tag:noindex
X-PUBLISHED-TTL:PT1H
BEGIN:VTIMEZONE
TZID:America/New_York
BEGIN:DAYLIGHT
TZOFFSETFROM:-0500
TZOFFSETTO:-0400
TZNAME:EDT
DTSTART:20230312T070000
END:DAYLIGHT
BEGIN:STANDARD
TZOFFSETFROM:-0400
TZOFFSETTO:-0500
TZNAME:EST
DTSTART:20231105T060000
END:STANDARD
BEGIN:DAYLIGHT
TZOFFSETFROM:-0500
TZOFFSETTO:-0400
TZNAME:EDT
DTSTART:20240310T070000
END:DAYLIGHT
BEGIN:STANDARD
TZOFFSETFROM:-0400
TZOFFSETTO:-0500
TZNAME:EST
DTSTART:20241103T060000
END:STANDARD
BEGIN:DAYLIGHT
TZOFFSETFROM:-0500
TZOFFSETTO:-0400
TZNAME:EDT
DTSTART:20250309T070000
END:DAYLIGHT
BEGIN:STANDARD
TZOFFSETFROM:-0400
TZOFFSETTO:-0500
TZNAME:EST
DTSTART:20251102T060000
END:STANDARD
END:VTIMEZONE
BEGIN:VEVENT
DTSTART;TZID=America/New_York:20240523T130000
DTEND;TZID=America/New_York:20240523T140000
DTSTAMP:20260419T183910
CREATED:20240516T204920Z
LAST-MODIFIED:20240517T024057Z
UID:4119-1716469200-1716472800@travelwebinars.com
SUMMARY:Discover the Charms of Charleston and Savannah with Beyond Times Square
DESCRIPTION:Click to Register \nBeyond Times Square is thrilled to announce our expansion to the South! The stunning Southern gems of Charleston and Savannah are filled with rich history\, breathtaking architecture and the irresistible allure of Lowcountry cuisine – making them must-visit destinations for any luxury traveler. \nJoin Content Manager Carole Peck for a look at what’s in store for your clients in our two newest destinations. From private historical walks to nighttime graveyard adventures to exclusive culinary tours\, our Experience Designers craft every detail to ensure a seamless and unforgettable trip. Bonus – be among the first to book and you’ll get a special gift! \nReserve your spot today and prepare to be the first to offer these charming southern cities that promise more than just a journey – they promise unforgettable stories to tell! \nHere’s what to expect: \n\nIntroducing Our Newest Destinations – Charleston and Savannah\nWhy Charleston and Savannah?\nMulti-day Experiences in Charleston and Savannah\nEnhancement Experiences in Charleston and Savannah\nSpecial Gift Offer for Our First Five Bookers!\nUpdate on Our 2024 Exclusive Thanksgiving Day Parade Viewing Party\nQ&A Session
URL:https://travelwebinars.com/event/discover-the-charms-of-savannah-and-charleston-with-beyond-times-square/
CATEGORIES:Travel Agents
ATTACH;FMTTYPE=image/jpeg:https://travelwebinars.com/wp-content/uploads/2021/04/BTSQ-Logo-2021-sm.jpg
END:VEVENT
BEGIN:VEVENT
DTSTART;TZID=America/New_York:20240523T150000
DTEND;TZID=America/New_York:20240523T153000
DTSTAMP:20260419T183910
CREATED:20240515T013111Z
LAST-MODIFIED:20240515T013111Z
UID:4105-1716476400-1716478200@travelwebinars.com
SUMMARY:Ultra-Luxe Journeys to Portugal with Blue Parallel
DESCRIPTION:Click to Register \nAre your travelers dreaming of once-in-a-lifetime journeys to Portugal? Join Blue Parallel’s travel experts and discover the unique\, insider travel experiences available in Portugal’s most spectacular regions. Together\, we will learn more about the country’s rich heritage\, visit picturesque landscapes\, uncover epic outdoor adventures\, discover remarkable culinary experiences and learn more about the exquisite accommodations located in each region.  \nFrom private openings of UNESCO World Heritage sites and exclusive access to books dating back to the 16th century\, to VIP port tastings and private cooking classes\, Portugal provides endless opportunities for custom-made tours.
URL:https://travelwebinars.com/event/ultra-luxe-journeys-to-portugal-with-blue-parallel-3/
CATEGORIES:Blue Parallel,Travel Agents
ATTACH;FMTTYPE=image/jpeg:https://travelwebinars.com/wp-content/uploads/2017/04/blue-parallel-logo-2017.jpg
END:VEVENT
END:VCALENDAR