BEGIN:VCALENDAR
VERSION:2.0
PRODID:-//Travel Webinars - ECPv6.15.20//NONSGML v1.0//EN
CALSCALE:GREGORIAN
METHOD:PUBLISH
X-ORIGINAL-URL:https://travelwebinars.com
X-WR-CALDESC:Events for Travel Webinars
REFRESH-INTERVAL;VALUE=DURATION:PT1H
X-Robots-Tag:noindex
X-PUBLISHED-TTL:PT1H
BEGIN:VTIMEZONE
TZID:America/New_York
BEGIN:DAYLIGHT
TZOFFSETFROM:-0500
TZOFFSETTO:-0400
TZNAME:EDT
DTSTART:20230312T070000
END:DAYLIGHT
BEGIN:STANDARD
TZOFFSETFROM:-0400
TZOFFSETTO:-0500
TZNAME:EST
DTSTART:20231105T060000
END:STANDARD
BEGIN:DAYLIGHT
TZOFFSETFROM:-0500
TZOFFSETTO:-0400
TZNAME:EDT
DTSTART:20240310T070000
END:DAYLIGHT
BEGIN:STANDARD
TZOFFSETFROM:-0400
TZOFFSETTO:-0500
TZNAME:EST
DTSTART:20241103T060000
END:STANDARD
BEGIN:DAYLIGHT
TZOFFSETFROM:-0500
TZOFFSETTO:-0400
TZNAME:EDT
DTSTART:20250309T070000
END:DAYLIGHT
BEGIN:STANDARD
TZOFFSETFROM:-0400
TZOFFSETTO:-0500
TZNAME:EST
DTSTART:20251102T060000
END:STANDARD
END:VTIMEZONE
BEGIN:VEVENT
DTSTART;TZID=America/New_York:20240521T140000
DTEND;TZID=America/New_York:20240521T143000
DTSTAMP:20260422T214916
CREATED:20240503T180622Z
LAST-MODIFIED:20240503T180651Z
UID:4100-1716300000-1716301800@travelwebinars.com
SUMMARY:Boston Bound: New Adventures & Beloved Classics
DESCRIPTION:Click to Register \nJoin Emily Meehan of Meet Boston\, Boston’s Convention and Visitors Bureau\, and TAP Tour Operator Nick Calderazzo of Twin Travel Concepts as they dive into the diverse and captivating city of Boston. Learn about the latest attractions and explore hidden gems that are redefining Boston’s tourism scene\, while still celebrating its timeless classics. From iconic landmarks to innovative experiences and dining\, you’ll gain insights into the best of Boston’s past and present. Whether you want to experience the magic of Beantown yourself or help guide your clients\, this talk provides a comprehensive and fresh perspective on the best of Boston.
URL:https://travelwebinars.com/event/boston-bound-new-adventures-beloved-classics/
CATEGORIES:TAP,Travel Agents
ATTACH;FMTTYPE=image/jpeg:https://travelwebinars.com/wp-content/uploads/2017/03/tap.jpg
END:VEVENT
BEGIN:VEVENT
DTSTART;TZID=America/New_York:20240521T140000
DTEND;TZID=America/New_York:20240521T150000
DTSTAMP:20260422T214916
CREATED:20240515T020651Z
LAST-MODIFIED:20240515T020651Z
UID:4115-1716300000-1716303600@travelwebinars.com
SUMMARY:A Dream Come Trip! Take a flight to Paris with French bee
DESCRIPTION:Click to Register \nBrought to you by Travel Research Online. \nFrench bee – France’s leading smart-cost long-haul airline\, provides affordable fares combined with an exceptional level of service on board of brand-new generation Airbus 350 aircraft. \nJoin our webinar to learn more about: \n\nOur story\, flight network and updated schedule for 2024\nOur fare structure and a-la carte services\nOur partner programs that will allow your clients to save even more.\nOur groups booking procedure.\n\nWEBINAR GIVEAWAY: One lucky attendee will win a round trip ticket to Paris!
URL:https://travelwebinars.com/event/a-dream-come-trip-take-a-flight-to-paris-with-french-bee/
CATEGORIES:Audience,Travel Agents,Travel Research Online
ATTACH;FMTTYPE=image/jpeg:https://travelwebinars.com/wp-content/uploads/2023/07/b4ff58a91f9df0f1794b30b55ba1ae63.jpeg
END:VEVENT
END:VCALENDAR