BEGIN:VCALENDAR
VERSION:2.0
PRODID:-//Travel Webinars - ECPv6.15.20//NONSGML v1.0//EN
CALSCALE:GREGORIAN
METHOD:PUBLISH
X-ORIGINAL-URL:https://travelwebinars.com
X-WR-CALDESC:Events for Travel Webinars
REFRESH-INTERVAL;VALUE=DURATION:PT1H
X-Robots-Tag:noindex
X-PUBLISHED-TTL:PT1H
BEGIN:VTIMEZONE
TZID:America/New_York
BEGIN:DAYLIGHT
TZOFFSETFROM:-0500
TZOFFSETTO:-0400
TZNAME:EDT
DTSTART:20230312T070000
END:DAYLIGHT
BEGIN:STANDARD
TZOFFSETFROM:-0400
TZOFFSETTO:-0500
TZNAME:EST
DTSTART:20231105T060000
END:STANDARD
BEGIN:DAYLIGHT
TZOFFSETFROM:-0500
TZOFFSETTO:-0400
TZNAME:EDT
DTSTART:20240310T070000
END:DAYLIGHT
BEGIN:STANDARD
TZOFFSETFROM:-0400
TZOFFSETTO:-0500
TZNAME:EST
DTSTART:20241103T060000
END:STANDARD
BEGIN:DAYLIGHT
TZOFFSETFROM:-0500
TZOFFSETTO:-0400
TZNAME:EDT
DTSTART:20250309T070000
END:DAYLIGHT
BEGIN:STANDARD
TZOFFSETFROM:-0400
TZOFFSETTO:-0500
TZNAME:EST
DTSTART:20251102T060000
END:STANDARD
END:VTIMEZONE
BEGIN:VEVENT
DTSTART;TZID=America/New_York:20240328T130000
DTEND;TZID=America/New_York:20240328T140000
DTSTAMP:20260421T211126
CREATED:20240314T172610Z
LAST-MODIFIED:20240314T172634Z
UID:4028-1711630800-1711634400@travelwebinars.com
SUMMARY:Italian Escapes: Crafting Your Perfect Tour Itinerary
DESCRIPTION:Click to Register \nDiscover the art of crafting an unforgettable Italian journey in our upcoming webinar. \nJoined by industry experts Dora Hayes\, Owner & Director of Business Development\, Tradesco Tours\, Giusi Del Gaudio of Gialpi Travel\, and Mariano Imperato of the Medusa Hotel and Furore Grand Hotel\, we’ll provide insider tips and insights to help you build your dream itinerary.  \nFrom exploring unique experiences off the beaten path to understanding the best times to visit different regions\, our presenters will share their extensive knowledge of Italy. You’ll learn how to create a seamless booking experience tailored to your interests and travel style.  \nWhether you envision wandering medieval villages\, savoring authentic cuisine\, or basking on the Amalfi Coast\, this webinar will equip you with the tools to bring your Italian escape to life.  \nJoin our free webinar for a virtual trip to Italy\, and lets tailor trips to perfection!
URL:https://travelwebinars.com/event/italian-escapes-crafting-your-perfect-tour-itinerary/
CATEGORIES:Tradesco Tours,Travel Agents
ATTACH;FMTTYPE=image/jpeg:https://travelwebinars.com/wp-content/uploads/2017/04/tradesco-logo.jpg
END:VEVENT
END:VCALENDAR