BEGIN:VCALENDAR
VERSION:2.0
PRODID:-//Travel Webinars - ECPv6.15.20//NONSGML v1.0//EN
CALSCALE:GREGORIAN
METHOD:PUBLISH
X-ORIGINAL-URL:https://travelwebinars.com
X-WR-CALDESC:Events for Travel Webinars
REFRESH-INTERVAL;VALUE=DURATION:PT1H
X-Robots-Tag:noindex
X-PUBLISHED-TTL:PT1H
BEGIN:VTIMEZONE
TZID:America/New_York
BEGIN:DAYLIGHT
TZOFFSETFROM:-0500
TZOFFSETTO:-0400
TZNAME:EDT
DTSTART:20230312T070000
END:DAYLIGHT
BEGIN:STANDARD
TZOFFSETFROM:-0400
TZOFFSETTO:-0500
TZNAME:EST
DTSTART:20231105T060000
END:STANDARD
BEGIN:DAYLIGHT
TZOFFSETFROM:-0500
TZOFFSETTO:-0400
TZNAME:EDT
DTSTART:20240310T070000
END:DAYLIGHT
BEGIN:STANDARD
TZOFFSETFROM:-0400
TZOFFSETTO:-0500
TZNAME:EST
DTSTART:20241103T060000
END:STANDARD
BEGIN:DAYLIGHT
TZOFFSETFROM:-0500
TZOFFSETTO:-0400
TZNAME:EDT
DTSTART:20250309T070000
END:DAYLIGHT
BEGIN:STANDARD
TZOFFSETFROM:-0400
TZOFFSETTO:-0500
TZNAME:EST
DTSTART:20251102T060000
END:STANDARD
END:VTIMEZONE
BEGIN:VEVENT
DTSTART;TZID=America/New_York:20240220T130000
DTEND;TZID=America/New_York:20240220T140000
DTSTAMP:20260421T194745
CREATED:20240206T232910Z
LAST-MODIFIED:20240206T232951Z
UID:3998-1708434000-1708437600@travelwebinars.com
SUMMARY:Groups with Swan Hellenic: Beyond Ordinary Expeditions Around the World
DESCRIPTION:Click to Register \nJoin this webinar for an overview of the Groups Program available to travel professionals. \nYou will also learn more about our Explore More wave promotion and how you can make the most of this opportunity.   \n\nSwan Hellenic was relaunched in July 2020 to proudly continue the spirit of cultural expedition cruising the company pioneered in the 1950s. Building on its British roots\, the new company has a global cultural cruising outlook dedicated to providing guests with the opportunity to “see what others don’t”. With 2 brand new\, purpose-built ice class vessels\, both under 200 guests\, Swan Hellenic can take your clients on the most unique journeys on all 7 continents\, marrying the adventure of a true expedition and 5-star service and accommodations.
URL:https://travelwebinars.com/event/groups-with-swan-hellenic-beyond-ordinary-expeditions-around-the-world/
CATEGORIES:Swan Hellenic,Travel Agents
ATTACH;FMTTYPE=image/jpeg:https://travelwebinars.com/wp-content/uploads/2023/06/Swan-Hellenic-logo.jpg
END:VEVENT
END:VCALENDAR