BEGIN:VCALENDAR
VERSION:2.0
PRODID:-//Travel Webinars - ECPv6.15.20//NONSGML v1.0//EN
CALSCALE:GREGORIAN
METHOD:PUBLISH
X-WR-CALNAME:Travel Webinars
X-ORIGINAL-URL:https://travelwebinars.com
X-WR-CALDESC:Events for Travel Webinars
REFRESH-INTERVAL;VALUE=DURATION:PT1H
X-Robots-Tag:noindex
X-PUBLISHED-TTL:PT1H
BEGIN:VTIMEZONE
TZID:America/New_York
BEGIN:DAYLIGHT
TZOFFSETFROM:-0500
TZOFFSETTO:-0400
TZNAME:EDT
DTSTART:20230312T070000
END:DAYLIGHT
BEGIN:STANDARD
TZOFFSETFROM:-0400
TZOFFSETTO:-0500
TZNAME:EST
DTSTART:20231105T060000
END:STANDARD
BEGIN:DAYLIGHT
TZOFFSETFROM:-0500
TZOFFSETTO:-0400
TZNAME:EDT
DTSTART:20240310T070000
END:DAYLIGHT
BEGIN:STANDARD
TZOFFSETFROM:-0400
TZOFFSETTO:-0500
TZNAME:EST
DTSTART:20241103T060000
END:STANDARD
BEGIN:DAYLIGHT
TZOFFSETFROM:-0500
TZOFFSETTO:-0400
TZNAME:EDT
DTSTART:20250309T070000
END:DAYLIGHT
BEGIN:STANDARD
TZOFFSETFROM:-0400
TZOFFSETTO:-0500
TZNAME:EST
DTSTART:20251102T060000
END:STANDARD
END:VTIMEZONE
BEGIN:VEVENT
DTSTART;TZID=America/New_York:20240215T130000
DTEND;TZID=America/New_York:20240215T140000
DTSTAMP:20260419T082902
CREATED:20240206T231325Z
LAST-MODIFIED:20240207T205549Z
UID:3992-1708002000-1708005600@travelwebinars.com
SUMMARY:What’s New in NYC for 2024? A Travel Insider’s Guide with Beyond Times Square
DESCRIPTION:Click to Register \nGet ready to take a virtual journey to New York City from the comfort of your desk! This month’s Beyond Times Square webinar is all about the Big Apple and what’s in store for your luxury clients this year – with a focus on spring in the city. \nJoin Content Manager Carole Peck for a look into the newest attractions set for NYC in 2024 and the experiences we’ve created to complement them. As the city that never sleeps is continuously evolving\, we’re here to ensure you’re ahead of the curve. From breathtaking outdoor experiences amid the spring blossoms to our signature multi-day packages with swappable add-ons\, you’ll get a sneak peek into the ultimate\, customizable travel experiences. \nAnd since it’s never too early to plan holiday travel – there will also be an update on those early bird rates that you’re going to want to snag for your clients for our holiday experiences as well as our Exclusive Thanksgiving Day Parade Viewing Party! \nReserve your spot today and transform your client’s travel dreams into reality with Beyond Times Square — where every journey is expertly crafted\, and every memory is laced with luxury. \nHere’s what to expect: \n\nWhat’s New in NYC in 2024: Be the first to hear about the new attractions\, Broadway shows\, dining options and more coming to NYC.\nOutdoor Experiences and the Spring Blossoms in NYC: Explore the city’s best outdoor experiences that allow your clients to embrace the beauty of nature.\nBTSQ Signature Experiences: Delve into our bespoke multiday experiences designed to cater to your client’s unique tastes and passions\, with the flexibility of exciting add-ons.\nEarly Bird Specials: Seize your clients exclusive early bird rates for our 2024 Thanksgiving and NYC Holiday Experiences – because the early bird catches the best of NYC!\nQ&A Session: Your chance to ask the New York City experts!
URL:https://travelwebinars.com/event/whats-new-in-nyc-for-2024-an-travel-insiders-guide-with-beyond-times-square/
CATEGORIES:Travel Agents
ATTACH;FMTTYPE=image/jpeg:https://travelwebinars.com/wp-content/uploads/2021/04/BTSQ-Logo-2021-sm.jpg
END:VEVENT
END:VCALENDAR