BEGIN:VCALENDAR
VERSION:2.0
PRODID:-//Travel Webinars - ECPv6.15.20//NONSGML v1.0//EN
CALSCALE:GREGORIAN
METHOD:PUBLISH
X-ORIGINAL-URL:https://travelwebinars.com
X-WR-CALDESC:Events for Travel Webinars
REFRESH-INTERVAL;VALUE=DURATION:PT1H
X-Robots-Tag:noindex
X-PUBLISHED-TTL:PT1H
BEGIN:VTIMEZONE
TZID:America/New_York
BEGIN:DAYLIGHT
TZOFFSETFROM:-0500
TZOFFSETTO:-0400
TZNAME:EDT
DTSTART:20230312T070000
END:DAYLIGHT
BEGIN:STANDARD
TZOFFSETFROM:-0400
TZOFFSETTO:-0500
TZNAME:EST
DTSTART:20231105T060000
END:STANDARD
BEGIN:DAYLIGHT
TZOFFSETFROM:-0500
TZOFFSETTO:-0400
TZNAME:EDT
DTSTART:20240310T070000
END:DAYLIGHT
BEGIN:STANDARD
TZOFFSETFROM:-0400
TZOFFSETTO:-0500
TZNAME:EST
DTSTART:20241103T060000
END:STANDARD
BEGIN:DAYLIGHT
TZOFFSETFROM:-0500
TZOFFSETTO:-0400
TZNAME:EDT
DTSTART:20250309T070000
END:DAYLIGHT
BEGIN:STANDARD
TZOFFSETFROM:-0400
TZOFFSETTO:-0500
TZNAME:EST
DTSTART:20251102T060000
END:STANDARD
END:VTIMEZONE
BEGIN:VEVENT
DTSTART;TZID=America/New_York:20240118T130000
DTEND;TZID=America/New_York:20240118T140000
DTSTAMP:20260420T193047
CREATED:20240111T153325Z
LAST-MODIFIED:20240111T163326Z
UID:3957-1705582800-1705586400@travelwebinars.com
SUMMARY:Discover DC's Luxury Travel Secrets & Cherry Blossom Bliss With Beyond Times Square
DESCRIPTION:Click to Register \nYes\, it may still be winter – but spring is right around the corner – so in this month’s Beyond Times Square webinar we are talking cherry blossoms! And not just any cherry blossoms – we are talking about the ones that take center stage at the National Cherry Blossom Festival in our nation’s capital every year! \nJoin Content Manager Carole Peck for a look into the fabulous experiences we have awaiting your luxury clients this year in Washington DC including our new for 2024 DC Cherry Blossom Festival Multiday Experience. But that’s not all we have going on in DC! You’ll also hear about our updated African American History & Culture Full Day Experience – which is perfect for families – as well as several day trip experiences that we offer to areas within driving distance of DC. \nAnd of course\, we can’t forget to give New York City some love! For your clients looking for romance\, our Romantic Valentine’s NYC Multiday Experience is the perfect mid-winter getaway! And since it’s never too early to plan holiday travel – there will also be an update on those early bird rates that you’re going to want to snag for your clients for our Exclusive Thanksgiving Day Parade Viewing Party! \nReserve your spot today and transform your client’s travel dreams into reality with Beyond Times Square — where every journey is expertly crafted\, and every memory is laced with luxury. \nThe highlights of the webinar are: \n\nWashington DC National Cherry Blossom Festival\nAfrican American History Experience in DC\nExploring Outside of DC\n\nArlington\nMount Vernon\nGettysburg\n\n\nRomantic Valentine’s NYC Multiday Experience\nExclusive Thanksgiving Day Parade Viewing Party Early Bird Rates\nQ&A Session
URL:https://travelwebinars.com/event/discover-dcs-luxury-travel-secrets-cherry-blossom-bliss-with-beyond-times-square/
CATEGORIES:Travel Agents
ATTACH;FMTTYPE=image/jpeg:https://travelwebinars.com/wp-content/uploads/2021/04/BTSQ-Logo-2021-sm.jpg
END:VEVENT
BEGIN:VEVENT
DTSTART;TZID=America/New_York:20240118T150000
DTEND;TZID=America/New_York:20240118T153000
DTSTAMP:20260420T193047
CREATED:20240110T162814Z
LAST-MODIFIED:20240110T162935Z
UID:3955-1705590000-1705591800@travelwebinars.com
SUMMARY:Ultra-Luxe Journeys to Spain with Blue Parallel
DESCRIPTION:Click to Register \nAre you ready to embark on a once-in-a-lifetime journey to Spain? Join Blue Parallel’s travel experts and discover the unique\, insider travel experiences available in Spain’s most spectacular regions. Together\, we will learn more about the country’s rich heritage and passionate culture\, visit picturesque landscapes\, uncover epic outdoor adventures and discuss unforgettable culinary experiences.  \nFrom private openings of UNESCO World Heritage sites and access to extraordinary private art collections\, to private wine tastings and authentic food tours\, Spain provides endless opportunities for custom-made tours.
URL:https://travelwebinars.com/event/ultra-luxe-journeys-to-spain-with-blue-parallel-3/
CATEGORIES:Blue Parallel,Travel Agents
ATTACH;FMTTYPE=image/jpeg:https://travelwebinars.com/wp-content/uploads/2017/04/blue-parallel-logo-2017.jpg
END:VEVENT
END:VCALENDAR