BEGIN:VCALENDAR
VERSION:2.0
PRODID:-//Travel Webinars - ECPv6.15.20//NONSGML v1.0//EN
CALSCALE:GREGORIAN
METHOD:PUBLISH
X-ORIGINAL-URL:https://travelwebinars.com
X-WR-CALDESC:Events for Travel Webinars
REFRESH-INTERVAL;VALUE=DURATION:PT1H
X-Robots-Tag:noindex
X-PUBLISHED-TTL:PT1H
BEGIN:VTIMEZONE
TZID:America/New_York
BEGIN:DAYLIGHT
TZOFFSETFROM:-0500
TZOFFSETTO:-0400
TZNAME:EDT
DTSTART:20220313T070000
END:DAYLIGHT
BEGIN:STANDARD
TZOFFSETFROM:-0400
TZOFFSETTO:-0500
TZNAME:EST
DTSTART:20221106T060000
END:STANDARD
BEGIN:DAYLIGHT
TZOFFSETFROM:-0500
TZOFFSETTO:-0400
TZNAME:EDT
DTSTART:20230312T070000
END:DAYLIGHT
BEGIN:STANDARD
TZOFFSETFROM:-0400
TZOFFSETTO:-0500
TZNAME:EST
DTSTART:20231105T060000
END:STANDARD
BEGIN:DAYLIGHT
TZOFFSETFROM:-0500
TZOFFSETTO:-0400
TZNAME:EDT
DTSTART:20240310T070000
END:DAYLIGHT
BEGIN:STANDARD
TZOFFSETFROM:-0400
TZOFFSETTO:-0500
TZNAME:EST
DTSTART:20241103T060000
END:STANDARD
END:VTIMEZONE
BEGIN:VEVENT
DTSTART;TZID=America/New_York:20231024T140000
DTEND;TZID=America/New_York:20231024T143000
DTSTAMP:20260419T183905
CREATED:20230907T173832Z
LAST-MODIFIED:20231023T143624Z
UID:3813-1698156000-1698157800@travelwebinars.com
SUMMARY:TAP Into Baseball in London and Football in Ireland
DESCRIPTION:Click to Register \nOne of baseball’s great divisional rivalries jumps across the pond as the New York Mets and Philadelphia Phillies play two at London Stadium next June. Then\, in August\, Atlantic Coast Conference foes\, the Ramblin’ Wreck from Georgia Tech and Florida State play at historic Aviva Stadium in Dublin. Join Sports Travel and Tours to learn more about this experience!
URL:https://travelwebinars.com/event/tap-into-baseball-in-london-and-football-in-ireland/
CATEGORIES:TAP,Travel Agents
ATTACH;FMTTYPE=image/jpeg:https://travelwebinars.com/wp-content/uploads/2017/03/tap.jpg
END:VEVENT
END:VCALENDAR