BEGIN:VCALENDAR
VERSION:2.0
PRODID:-//Travel Webinars - ECPv6.15.20//NONSGML v1.0//EN
CALSCALE:GREGORIAN
METHOD:PUBLISH
X-ORIGINAL-URL:https://travelwebinars.com
X-WR-CALDESC:Events for Travel Webinars
REFRESH-INTERVAL;VALUE=DURATION:PT1H
X-Robots-Tag:noindex
X-PUBLISHED-TTL:PT1H
BEGIN:VTIMEZONE
TZID:America/New_York
BEGIN:DAYLIGHT
TZOFFSETFROM:-0500
TZOFFSETTO:-0400
TZNAME:EDT
DTSTART:20220313T070000
END:DAYLIGHT
BEGIN:STANDARD
TZOFFSETFROM:-0400
TZOFFSETTO:-0500
TZNAME:EST
DTSTART:20221106T060000
END:STANDARD
BEGIN:DAYLIGHT
TZOFFSETFROM:-0500
TZOFFSETTO:-0400
TZNAME:EDT
DTSTART:20230312T070000
END:DAYLIGHT
BEGIN:STANDARD
TZOFFSETFROM:-0400
TZOFFSETTO:-0500
TZNAME:EST
DTSTART:20231105T060000
END:STANDARD
BEGIN:DAYLIGHT
TZOFFSETFROM:-0500
TZOFFSETTO:-0400
TZNAME:EDT
DTSTART:20240310T070000
END:DAYLIGHT
BEGIN:STANDARD
TZOFFSETFROM:-0400
TZOFFSETTO:-0500
TZNAME:EST
DTSTART:20241103T060000
END:STANDARD
END:VTIMEZONE
BEGIN:VEVENT
DTSTART;TZID=America/New_York:20230927T130000
DTEND;TZID=America/New_York:20230927T140000
DTSTAMP:20260421T003238
CREATED:20230912T162029Z
LAST-MODIFIED:20230912T162029Z
UID:3818-1695819600-1695823200@travelwebinars.com
SUMMARY:Southern Africa Destination Training
DESCRIPTION:Click to Register \nJoin Big Five’s president\, Ashish Sanghrajka as he shares his passion for Southern Africa with you.   \nThe format for this meeting is much like the way we do business every day on our quotes with you and your clients (since we don’t sell “direct” Advisors are usually comfortable sharing their clients). We are expecting it to run 45 – 60 minutes (with questions).
URL:https://travelwebinars.com/event/southern-africa-destination-training/
CATEGORIES:Big Five Tours & Expeditions,Travel Agents
ATTACH;FMTTYPE=image/jpeg:https://travelwebinars.com/wp-content/uploads/2017/04/bigfive-logo.jpg
END:VEVENT
END:VCALENDAR