BEGIN:VCALENDAR
VERSION:2.0
PRODID:-//Travel Webinars - ECPv6.15.20//NONSGML v1.0//EN
CALSCALE:GREGORIAN
METHOD:PUBLISH
X-WR-CALNAME:Travel Webinars
X-ORIGINAL-URL:https://travelwebinars.com
X-WR-CALDESC:Events for Travel Webinars
REFRESH-INTERVAL;VALUE=DURATION:PT1H
X-Robots-Tag:noindex
X-PUBLISHED-TTL:PT1H
BEGIN:VTIMEZONE
TZID:America/New_York
BEGIN:DAYLIGHT
TZOFFSETFROM:-0500
TZOFFSETTO:-0400
TZNAME:EDT
DTSTART:20220313T070000
END:DAYLIGHT
BEGIN:STANDARD
TZOFFSETFROM:-0400
TZOFFSETTO:-0500
TZNAME:EST
DTSTART:20221106T060000
END:STANDARD
BEGIN:DAYLIGHT
TZOFFSETFROM:-0500
TZOFFSETTO:-0400
TZNAME:EDT
DTSTART:20230312T070000
END:DAYLIGHT
BEGIN:STANDARD
TZOFFSETFROM:-0400
TZOFFSETTO:-0500
TZNAME:EST
DTSTART:20231105T060000
END:STANDARD
BEGIN:DAYLIGHT
TZOFFSETFROM:-0500
TZOFFSETTO:-0400
TZNAME:EDT
DTSTART:20240310T070000
END:DAYLIGHT
BEGIN:STANDARD
TZOFFSETFROM:-0400
TZOFFSETTO:-0500
TZNAME:EST
DTSTART:20241103T060000
END:STANDARD
END:VTIMEZONE
BEGIN:VEVENT
DTSTART;TZID=America/New_York:20230921T130000
DTEND;TZID=America/New_York:20230921T140000
DTSTAMP:20260424T175952
CREATED:20230907T173731Z
LAST-MODIFIED:20230907T174547Z
UID:3811-1695301200-1695304800@travelwebinars.com
SUMMARY:Unveiling the Magic: Exclusive 2023 Holiday Experiences in NYC
DESCRIPTION:Click to Register \nPerfectly timed for your client’s upscale holiday travel preparations\, we are thrilled to unveil our New York City luxury holiday experiences for 2023! Our fabulous product team has come up with spectacular seasonal offerings tailored for discerning travelers\, guaranteeing a vacation filled with unforgettable moments. \nThis year\, the crown jewel is our VIP Rockefeller Center Christmas Tree Lighting Party—an exclusive celebration that brings your clients face-to-face with the very essence of holiday grandeur. But that’s not all! We’ve also curated an array of enchanting holiday tours that can be seamlessly added to their getaway – including three brand-new experiences!  \nIn our upcoming webinar\, our Content Manager Carole Peck will show you why our luxury holiday travel packages in New York City – including luxury round-trip transportation and 5-star hotels are meticulously designed to turn your NYC holiday into a collection of cherished memories. \nPlus – all attendees of the seminar will receive a copy of our New York City Luxury Holiday Experience Brochure for 2023 – both branded and white labeled. \nThe highlights of the webinar are:\n•	Why New York City for the Holidays?\n•	NYC Private Holiday Tours\n•	Christmas Caroling Cruise\n•	Holiday Trifecta Experience\n•	Winter Wonderland Experience\n•	NEW! 2023 VIP Rockefeller Center Christmas Tree Lighting Party\n•	Exclusive 2023 Thanksgiving Day Parade Viewing Party\n•	Q&A: Interact with our Destination Experts
URL:https://travelwebinars.com/event/unveiling-the-magic-exclusive-2023-holiday-experiences-in-nyc/
CATEGORIES:Travel Agents
ATTACH;FMTTYPE=image/jpeg:https://travelwebinars.com/wp-content/uploads/2021/04/BTSQ-Logo-2021-sm.jpg
END:VEVENT
BEGIN:VEVENT
DTSTART;TZID=America/New_York:20230921T150000
DTEND;TZID=America/New_York:20230921T153000
DTSTAMP:20260424T175952
CREATED:20230915T152813Z
LAST-MODIFIED:20230918T153900Z
UID:3823-1695308400-1695310200@travelwebinars.com
SUMMARY:Ultra-Luxe Journeys to Ecuador & The Galapagos Islands with Blue Parallel
DESCRIPTION:Click to Register \nJoin Blue Parallel on a luxury journey to Ecuador and the Galapagos Islands. We will discover the endless opportunities for unforgettable\, custom-made adventures throughout the region\, including the scenic Andean highlands\, the legendary Galapagos Islands\, and one of the first named UNESCO World Heritage sites\, Quito. We’ll also journey through the captivating Ecuadorian Amazon and the magical ethereal cloud forest. \nTogether we will step back in time\, walking in the footsteps of Charles Darwin as we explore the biodiverse Galapagos Islands\, and learning about Ecuador’s rich history as we admire the well-preserved colonial architecture in Quito. We will embark on exciting outdoor adventures\, including snorkeling at the iconic Pinnacle Rock\, kayaking to picturesque islands\, horseback riding at a hacienda in the highlands\, and trekking through the heart of the Amazon or cloud forest. From luxury land-based adventures to private sea-based journeys\, we share the best opportunities for insider experiences\, white-glove service and optimum privacy.
URL:https://travelwebinars.com/event/ultra-luxe-journeys-to-ecuador-the-galapagos-islands-with-blue-parallel/
CATEGORIES:Blue Parallel,Travel Agents
ATTACH;FMTTYPE=image/jpeg:https://travelwebinars.com/wp-content/uploads/2017/04/blue-parallel-logo-2017.jpg
END:VEVENT
END:VCALENDAR