BEGIN:VCALENDAR
VERSION:2.0
PRODID:-//Travel Webinars - ECPv6.15.20//NONSGML v1.0//EN
CALSCALE:GREGORIAN
METHOD:PUBLISH
X-ORIGINAL-URL:https://travelwebinars.com
X-WR-CALDESC:Events for Travel Webinars
REFRESH-INTERVAL;VALUE=DURATION:PT1H
X-Robots-Tag:noindex
X-PUBLISHED-TTL:PT1H
BEGIN:VTIMEZONE
TZID:America/New_York
BEGIN:DAYLIGHT
TZOFFSETFROM:-0500
TZOFFSETTO:-0400
TZNAME:EDT
DTSTART:20220313T070000
END:DAYLIGHT
BEGIN:STANDARD
TZOFFSETFROM:-0400
TZOFFSETTO:-0500
TZNAME:EST
DTSTART:20221106T060000
END:STANDARD
BEGIN:DAYLIGHT
TZOFFSETFROM:-0500
TZOFFSETTO:-0400
TZNAME:EDT
DTSTART:20230312T070000
END:DAYLIGHT
BEGIN:STANDARD
TZOFFSETFROM:-0400
TZOFFSETTO:-0500
TZNAME:EST
DTSTART:20231105T060000
END:STANDARD
BEGIN:DAYLIGHT
TZOFFSETFROM:-0500
TZOFFSETTO:-0400
TZNAME:EDT
DTSTART:20240310T070000
END:DAYLIGHT
BEGIN:STANDARD
TZOFFSETFROM:-0400
TZOFFSETTO:-0500
TZNAME:EST
DTSTART:20241103T060000
END:STANDARD
END:VTIMEZONE
BEGIN:VEVENT
DTSTART;TZID=America/New_York:20230919T140000
DTEND;TZID=America/New_York:20230919T150000
DTSTAMP:20260422T061236
CREATED:20230907T173603Z
LAST-MODIFIED:20230907T173603Z
UID:3809-1695132000-1695135600@travelwebinars.com
SUMMARY:Explore the Four Worlds of Ecuador
DESCRIPTION:Click to Register\nEcuador\, is not just one country – it is also four worlds\, making it one of the most unique destinations in the world. From the Galapagos Islands\, the Andes\, the Amazon and the Coast\, Ecuador is awe-inspiring. \nJoin our webinar and discover the characteristics that make this place so special and its four regions that offer unique moments and adventures to its visitors. \nDuring our webinar\, we will talk about:\n— The experiences and main activities that should be on everyone’s list.\n— How to prepare for a trip to Ecuador.\n— What do you need to visit: passports\, Visas\, etc.\n— How many days we recommend to truly experience this our country. \nMarcel Perkins\, Managing Director of Latin Trails\, will provide you with all the information you need to know to plan to a once in a lifetime experience for your clients. \nJoin the next webinar to learn about the possible combinations for a perfect itinerary for a visit to Ecuador. Discover the hidden wonders of the Ecuadorian Amazon\, the best activities to do\, accommodation options\, gastronomy\, culture\, and much more. \nMarcel Perkins will provide you with all the information you need to know to plan to a once in a lifetime experience for your clients.
URL:https://travelwebinars.com/event/explore-the-four-worlds-of-ecuador/
CATEGORIES:Latin Trails,South America,Travel Agents
ATTACH;FMTTYPE=image/jpeg:https://travelwebinars.com/wp-content/uploads/2022/08/LATIN-TRAILS-NEW-LOGO_300px.jpg
END:VEVENT
BEGIN:VEVENT
DTSTART;TZID=America/New_York:20230919T160000
DTEND;TZID=America/New_York:20230919T170000
DTSTAMP:20260422T061236
CREATED:20230915T153129Z
LAST-MODIFIED:20230915T153129Z
UID:3825-1695139200-1695142800@travelwebinars.com
SUMMARY:Your Guide to Selling the Ultimate Small Group Adventure to Patagonia
DESCRIPTION:Click to Register \nActive Adventures is excited to announce their next webinar is Tuesday\, September 19th\, featuring one of the world’s most captivating destinations for adventure travelers – Patagonia. \nNestled between southern Chile and Argentina\, Patagonia’s diverse landscapes and renowned hiking trails secure a top spot on the must-visit list of adventure enthusiasts worldwide. \nWhether you’re a seasoned travel expert or just beginning to explore the wonders of Patagonia\, this webinar will equip you with the tools and knowledge to sell an unforgettable travel experience to your clients\, all in under thirty minutes! \nUnable to attend the webinar? Register and we will be sure to send you the recording. \nActive Adventures was born in New Zealand over 25 years ago from a passion for sharing a love of adventure with friends around the world. Trips with Active Adventures have a distinctive blend of warmth and hospitality\, and destinations include New Zealand\, the Himalayas\, South America\, Europe\, and Africa.
URL:https://travelwebinars.com/event/your-guide-to-selling-the-ultimate-small-group-adventure-to-patagonia/
CATEGORIES:Travel Agents
ATTACH;FMTTYPE=image/png:https://travelwebinars.com/wp-content/uploads/2023/04/ACTIVE_ADVENTURES_LOGO-400.fw_.png
END:VEVENT
END:VCALENDAR