BEGIN:VCALENDAR
VERSION:2.0
PRODID:-//Travel Webinars - ECPv6.15.20//NONSGML v1.0//EN
CALSCALE:GREGORIAN
METHOD:PUBLISH
X-ORIGINAL-URL:https://travelwebinars.com
X-WR-CALDESC:Events for Travel Webinars
REFRESH-INTERVAL;VALUE=DURATION:PT1H
X-Robots-Tag:noindex
X-PUBLISHED-TTL:PT1H
BEGIN:VTIMEZONE
TZID:America/New_York
BEGIN:DAYLIGHT
TZOFFSETFROM:-0500
TZOFFSETTO:-0400
TZNAME:EDT
DTSTART:20220313T070000
END:DAYLIGHT
BEGIN:STANDARD
TZOFFSETFROM:-0400
TZOFFSETTO:-0500
TZNAME:EST
DTSTART:20221106T060000
END:STANDARD
BEGIN:DAYLIGHT
TZOFFSETFROM:-0500
TZOFFSETTO:-0400
TZNAME:EDT
DTSTART:20230312T070000
END:DAYLIGHT
BEGIN:STANDARD
TZOFFSETFROM:-0400
TZOFFSETTO:-0500
TZNAME:EST
DTSTART:20231105T060000
END:STANDARD
BEGIN:DAYLIGHT
TZOFFSETFROM:-0500
TZOFFSETTO:-0400
TZNAME:EDT
DTSTART:20240310T070000
END:DAYLIGHT
BEGIN:STANDARD
TZOFFSETFROM:-0400
TZOFFSETTO:-0500
TZNAME:EST
DTSTART:20241103T060000
END:STANDARD
END:VTIMEZONE
BEGIN:VEVENT
DTSTART;TZID=America/New_York:20230720T110000
DTEND;TZID=America/New_York:20230720T120000
DTSTAMP:20260422T214911
CREATED:20230630T184722Z
LAST-MODIFIED:20230709T210026Z
UID:3755-1689850800-1689854400@travelwebinars.com
SUMMARY:Introducing Yachting in Costa Rica with Kontiki Expeditions
DESCRIPTION:Click to Register \nSince our beginnings\, Kontiki Expeditions’ vision was to expand our boutique cruises and the concept of conscious tourism beyond coastal Ecuador to special destinations in the Americas. \nYou are invited to join our webinar as we announce the premiere of our new expedition to the Pacific Coast of Costa Rica. \nIf you are not able to attend the webinar\, we encourage you to sign up for access to the replay.
URL:https://travelwebinars.com/event/introducing-yachting-in-costa-rica-with-kontiki-expeditions/
CATEGORIES:Kontiki Expeditions,South America,Supplier,Travel Agents
ATTACH;FMTTYPE=image/png:https://travelwebinars.com/wp-content/uploads/2023/01/Kontiki-Logo.fw_.png
END:VEVENT
BEGIN:VEVENT
DTSTART;TZID=America/New_York:20230720T130000
DTEND;TZID=America/New_York:20230720T140000
DTSTAMP:20260422T214911
CREATED:20230709T210134Z
LAST-MODIFIED:20230709T210134Z
UID:3762-1689858000-1689861600@travelwebinars.com
SUMMARY:Introducing Yachting in Costa Rica with Kontiki Expeditions
DESCRIPTION:Click to Register \nSince our beginnings\, Kontiki Expeditions’ vision was to expand our boutique cruises and the concept of conscious tourism beyond coastal Ecuador to special destinations in the Americas. \nYou are invited to join our webinar as we announce the premiere of our new expedition to the Pacific Coast of Costa Rica. \nIf you are not able to attend the webinar\, we encourage you to sign up for access to the replay.
URL:https://travelwebinars.com/event/introducing-yachting-in-costa-rica-with-kontiki-expeditions-2/
CATEGORIES:Kontiki Expeditions,South America,Supplier,Travel Agents
ATTACH;FMTTYPE=image/png:https://travelwebinars.com/wp-content/uploads/2023/01/Kontiki-Logo.fw_.png
END:VEVENT
BEGIN:VEVENT
DTSTART;TZID=America/New_York:20230720T150000
DTEND;TZID=America/New_York:20230720T153000
DTSTAMP:20260422T214911
CREATED:20230713T185859Z
LAST-MODIFIED:20230714T135122Z
UID:3771-1689865200-1689867000@travelwebinars.com
SUMMARY:Ultra-Luxe Journeys to Argentina with Blue Parallel
DESCRIPTION:Click to Register \nJoin Blue Parallel’s travel expert on a once-in-a-lifetime journey to Argentina\, the silver treasure of South America. Known as one of the most geographically diverse countries in the world and home to endless natural wonders\, Argentina is an ideal destination for even the most discerning travelers. Together\, we will learn more about the country’s fascinating history and explore its varied outdoor adventures\, breathtaking landscapes and delightful culinary scene. \nFrom the imposing Andes mountains\, majestic Iguazu Falls and the breathtaking Lake District\, to the finest vineyards in Mendoza\, the unforgettable scenery in Patagonia and the vibrant culture in Buenos Aires\, this paradisiacal destination provides endless opportunity to create custom-made journeys characterized by exclusive insider-access experiences\, outdoor adventures and white-glove service.
URL:https://travelwebinars.com/event/ultra-luxe-journeys-to-peru-with-blue-parallel-3-2-2/
CATEGORIES:Blue Parallel,Travel Agents
ATTACH;FMTTYPE=image/jpeg:https://travelwebinars.com/wp-content/uploads/2017/04/blue-parallel-logo-2017.jpg
END:VEVENT
END:VCALENDAR