BEGIN:VCALENDAR
VERSION:2.0
PRODID:-//Travel Webinars - ECPv6.15.20//NONSGML v1.0//EN
CALSCALE:GREGORIAN
METHOD:PUBLISH
X-ORIGINAL-URL:https://travelwebinars.com
X-WR-CALDESC:Events for Travel Webinars
REFRESH-INTERVAL;VALUE=DURATION:PT1H
X-Robots-Tag:noindex
X-PUBLISHED-TTL:PT1H
BEGIN:VTIMEZONE
TZID:America/New_York
BEGIN:DAYLIGHT
TZOFFSETFROM:-0500
TZOFFSETTO:-0400
TZNAME:EDT
DTSTART:20220313T070000
END:DAYLIGHT
BEGIN:STANDARD
TZOFFSETFROM:-0400
TZOFFSETTO:-0500
TZNAME:EST
DTSTART:20221106T060000
END:STANDARD
BEGIN:DAYLIGHT
TZOFFSETFROM:-0500
TZOFFSETTO:-0400
TZNAME:EDT
DTSTART:20230312T070000
END:DAYLIGHT
BEGIN:STANDARD
TZOFFSETFROM:-0400
TZOFFSETTO:-0500
TZNAME:EST
DTSTART:20231105T060000
END:STANDARD
BEGIN:DAYLIGHT
TZOFFSETFROM:-0500
TZOFFSETTO:-0400
TZNAME:EDT
DTSTART:20240310T070000
END:DAYLIGHT
BEGIN:STANDARD
TZOFFSETFROM:-0400
TZOFFSETTO:-0500
TZNAME:EST
DTSTART:20241103T060000
END:STANDARD
END:VTIMEZONE
BEGIN:VEVENT
DTSTART;TZID=America/New_York:20230719T150000
DTEND;TZID=America/New_York:20230719T160000
DTSTAMP:20260421T201135
CREATED:20230713T170730Z
LAST-MODIFIED:20230713T170730Z
UID:3767-1689778800-1689782400@travelwebinars.com
SUMMARY:Let’s take you to Paris! with French bee.
DESCRIPTION:Click to Register\nBrought to you by Travel Research Online. \nGoing to Paris and Tahiti is always a dream. And French bee makes this dream come true. Traveling there has never been so affordable and pleasant (thanks to our outstanding on-board advantages and services). \nFrench bee is France’s leading smart-cost airline\, that provides affordable fares combined with an exceptional level of service on board of new generation Airbus 350 aircrafts. \nJoin our webinar to learn about: \n– Our current destinations and schedule \n– Our great rates when flying to Paris and Tahiti from our US gateways \n– Fares structure and ticketing policy. \n– Our Train + Air program that will allow your clients to save even more \nGIVEAWAY – One attendee will win a roundtrip ticket to Paris from one of the USA gateways!
URL:https://travelwebinars.com/event/lets-take-you-to-paris-with-french-bee/
CATEGORIES:Audience,Travel Agents,Travel Research Online
ATTACH;FMTTYPE=image/jpeg:https://travelwebinars.com/wp-content/uploads/2023/07/b4ff58a91f9df0f1794b30b55ba1ae63.jpeg
END:VEVENT
END:VCALENDAR